BEGIN:VCALENDAR
VERSION:2.0
PRODID:-//Welcome to Rancho Vistoso - ECPv6.15.20//NONSGML v1.0//EN
CALSCALE:GREGORIAN
METHOD:PUBLISH
X-WR-CALNAME:Welcome to Rancho Vistoso
X-ORIGINAL-URL:https://ranchovistosohoa.com
X-WR-CALDESC:Events for Welcome to Rancho Vistoso
REFRESH-INTERVAL;VALUE=DURATION:PT1H
X-Robots-Tag:noindex
X-PUBLISHED-TTL:PT1H
BEGIN:VTIMEZONE
TZID:America/Phoenix
BEGIN:STANDARD
TZOFFSETFROM:-0700
TZOFFSETTO:-0700
TZNAME:MST
DTSTART:20240101T000000
END:STANDARD
END:VTIMEZONE
BEGIN:VEVENT
DTSTART;TZID=America/Phoenix:20251025T080000
DTEND;TZID=America/Phoenix:20251025T140000
DTSTAMP:20260423T035118
CREATED:20250819T231635Z
LAST-MODIFIED:20250819T231635Z
UID:10001425-1761379200-1761400800@ranchovistosohoa.com
SUMMARY:Fall Festival
DESCRIPTION:
URL:https://ranchovistosohoa.com/event/fall-festival/
LOCATION:Audio Visual Conference via Zoom
END:VEVENT
END:VCALENDAR