BEGIN:VCALENDAR
VERSION:2.0
PRODID:-//Welcome to Rancho Vistoso - ECPv6.15.20//NONSGML v1.0//EN
CALSCALE:GREGORIAN
METHOD:PUBLISH
X-WR-CALNAME:Welcome to Rancho Vistoso
X-ORIGINAL-URL:https://ranchovistosohoa.com
X-WR-CALDESC:Events for Welcome to Rancho Vistoso
REFRESH-INTERVAL;VALUE=DURATION:PT1H
X-Robots-Tag:noindex
X-PUBLISHED-TTL:PT1H
BEGIN:VTIMEZONE
TZID:America/Phoenix
BEGIN:STANDARD
TZOFFSETFROM:-0700
TZOFFSETTO:-0700
TZNAME:MST
DTSTART:20240101T000000
END:STANDARD
END:VTIMEZONE
BEGIN:VEVENT
DTSTART;VALUE=DATE:20251127
DTEND;VALUE=DATE:20251129
DTSTAMP:20260423T014932
CREATED:20251126T183707Z
LAST-MODIFIED:20251126T183708Z
UID:10000518-1764201600-1764374399@ranchovistosohoa.com
SUMMARY:VCA Office Closed - Thanksgiving Day
DESCRIPTION:
URL:https://ranchovistosohoa.com/event/vca-office-closed-thanksgiving-day-2-2/2025-11-27/
LOCATION:Vistoso Association Office\, 1171 E Rancho Vistoso Blvd - Suite #111\, Oro Valley\, AZ\, 85755\, United States
CATEGORIES:Holiday - Office Closed
ATTACH;FMTTYPE=image/jpeg:https://ranchovistosohoa.com/wp-content/uploads/2021/12/christmas-christmas-tree-presents-1869902-e1640881249148.jpg
GEO:32.456496;-110.98357
X-APPLE-STRUCTURED-LOCATION;VALUE=URI;X-ADDRESS=Vistoso Association Office 1171 E Rancho Vistoso Blvd - Suite #111 Oro Valley AZ 85755 United States;X-APPLE-RADIUS=500;X-TITLE=1171 E Rancho Vistoso Blvd - Suite #111:geo:-110.98357,32.456496
END:VEVENT
END:VCALENDAR