BEGIN:VCALENDAR
VERSION:2.0
PRODID:-//Welcome to Rancho Vistoso - ECPv6.15.20//NONSGML v1.0//EN
CALSCALE:GREGORIAN
METHOD:PUBLISH
X-ORIGINAL-URL:https://ranchovistosohoa.com
X-WR-CALDESC:Events for Welcome to Rancho Vistoso
REFRESH-INTERVAL;VALUE=DURATION:PT1H
X-Robots-Tag:noindex
X-PUBLISHED-TTL:PT1H
BEGIN:VTIMEZONE
TZID:America/Phoenix
BEGIN:STANDARD
TZOFFSETFROM:-0700
TZOFFSETTO:-0700
TZNAME:MST
DTSTART:20240101T000000
END:STANDARD
END:VTIMEZONE
BEGIN:VEVENT
DTSTART;TZID=America/Phoenix:20251210T150000
DTEND;TZID=America/Phoenix:20251210T160000
DTSTAMP:20260422T220355
CREATED:20240911T234458Z
LAST-MODIFIED:20240911T234459Z
UID:10000763-1765378800-1765382400@ranchovistosohoa.com
SUMMARY:Architectural and Landscaping Review Committee
DESCRIPTION:ALRC Meeting Second Wednesday of the Month at 3:00 PM \nVia Zoom Videoconference \nhttps://us02web.zoom.us/j/8445866556 Meeting ID: 844 586 6556
URL:https://ranchovistosohoa.com/event/architectural-and-landscaping-review-committee-2-2/2025-12-10/
LOCATION:Audio Visual Conference via Zoom
CATEGORIES:ALRC
ATTACH;FMTTYPE=image/jpeg:https://ranchovistosohoa.com/wp-content/uploads/2021/12/qtq80-MmDIyT-e1640202501904.jpeg
END:VEVENT
END:VCALENDAR