BEGIN:VCALENDAR
VERSION:2.0
PRODID:-//Welcome to Rancho Vistoso - ECPv6.15.20//NONSGML v1.0//EN
CALSCALE:GREGORIAN
METHOD:PUBLISH
X-ORIGINAL-URL:https://ranchovistosohoa.com
X-WR-CALDESC:Events for Welcome to Rancho Vistoso
REFRESH-INTERVAL;VALUE=DURATION:PT1H
X-Robots-Tag:noindex
X-PUBLISHED-TTL:PT1H
BEGIN:VTIMEZONE
TZID:America/Phoenix
BEGIN:STANDARD
TZOFFSETFROM:-0700
TZOFFSETTO:-0700
TZNAME:MST
DTSTART:20240101T000000
END:STANDARD
END:VTIMEZONE
BEGIN:VEVENT
DTSTART;VALUE=DATE:20251224
DTEND;VALUE=DATE:20251225
DTSTAMP:20260422T220354
CREATED:20241118T165257Z
LAST-MODIFIED:20241118T165257Z
UID:10001322-1766534400-1766620799@ranchovistosohoa.com
SUMMARY:VCA Office Closed - 12/24
DESCRIPTION:
URL:https://ranchovistosohoa.com/event/vca-office-closed-12-24/2025-12-24/
LOCATION:Audio Visual Conference via Zoom
CATEGORIES:Holiday - Office Closed
END:VEVENT
END:VCALENDAR