BEGIN:VCALENDAR
VERSION:2.0
PRODID:-//Welcome to Rancho Vistoso - ECPv6.15.20//NONSGML v1.0//EN
CALSCALE:GREGORIAN
METHOD:PUBLISH
X-ORIGINAL-URL:https://ranchovistosohoa.com
X-WR-CALDESC:Events for Welcome to Rancho Vistoso
REFRESH-INTERVAL;VALUE=DURATION:PT1H
X-Robots-Tag:noindex
X-PUBLISHED-TTL:PT1H
BEGIN:VTIMEZONE
TZID:America/Phoenix
BEGIN:STANDARD
TZOFFSETFROM:-0700
TZOFFSETTO:-0700
TZNAME:MST
DTSTART:20250101T000000
END:STANDARD
END:VTIMEZONE
BEGIN:VEVENT
DTSTART;TZID=America/Phoenix:20260416T150000
DTEND;TZID=America/Phoenix:20260416T153000
DTSTAMP:20260422T142949
CREATED:20260403T174152Z
LAST-MODIFIED:20260416T211113Z
UID:10001723-1776351600-1776353400@ranchovistosohoa.com
SUMMARY:Board of Directors - Open Meeting
DESCRIPTION:Vistoso Community Association Board of Directors (Open Session)\nMeeting Schedule – 5:30PM\nMeeting platform via Zoom Video & Audio Conferencing\n  \nClick HERE for the meeting agenda. \nHomeowners are encouraged to join Zoom Meeting at \nhttps://us02web.zoom.us/j/8445866556 \nMeeting ID: 844 586 6556 \nQuestions can also be submitted in advance at AskVCA@ranchovistosohoa.com
URL:https://ranchovistosohoa.com/event/board-of-directors-open-meeting/
LOCATION:Audio Visual Conference via Zoom
CATEGORIES:Board Meeting
ATTACH;FMTTYPE=image/png:https://ranchovistosohoa.com/wp-content/uploads/2020/01/vistoso-board.png
END:VEVENT
BEGIN:VEVENT
DTSTART;TZID=America/Phoenix:20260416T153000
DTEND;TZID=America/Phoenix:20260416T160000
DTSTAMP:20260422T142949
CREATED:20260403T174258Z
LAST-MODIFIED:20260416T204940Z
UID:10001724-1776353400-1776355200@ranchovistosohoa.com
SUMMARY:Board of Directors Executive Session – Closed Meeting
DESCRIPTION:VCA Board of Directors (Executive Session) – Closed Meeting\n\nMeeting Schedule – 3:30PM\n  \nThis meeting is to discuss items pertaining to ARS 33- 1804 A. paragraph 1\, 3\, 4 & 5. (Closed Meeting)  \n33-1804. Open meetings; exceptions – https://www.azleg.gov/ars/33/01804.htm
URL:https://ranchovistosohoa.com/event/board-of-directors-executive-session-closed-meeting/
LOCATION:Audio Visual Conference via Zoom
CATEGORIES:Board Meeting - Executive Session
ATTACH;FMTTYPE=image/png:https://ranchovistosohoa.com/wp-content/uploads/2020/01/vistoso-board.png
END:VEVENT
END:VCALENDAR