BEGIN:VCALENDAR
VERSION:2.0
PRODID:-//Welcome to Rancho Vistoso - ECPv6.15.20//NONSGML v1.0//EN
CALSCALE:GREGORIAN
METHOD:PUBLISH
X-ORIGINAL-URL:https://ranchovistosohoa.com
X-WR-CALDESC:Events for Welcome to Rancho Vistoso
REFRESH-INTERVAL;VALUE=DURATION:PT1H
X-Robots-Tag:noindex
X-PUBLISHED-TTL:PT1H
BEGIN:VTIMEZONE
TZID:America/Phoenix
BEGIN:STANDARD
TZOFFSETFROM:-0700
TZOFFSETTO:-0700
TZNAME:MST
DTSTART:20250101T000000
END:STANDARD
END:VTIMEZONE
BEGIN:VEVENT
DTSTART;VALUE=DATE:20260525
DTEND;VALUE=DATE:20260526
DTSTAMP:20260422T161934
CREATED:20230113T233013Z
LAST-MODIFIED:20231009T235953Z
UID:10000542-1779667200-1779753599@ranchovistosohoa.com
SUMMARY:VCA Office Closed - Memorial Day
DESCRIPTION:
URL:https://ranchovistosohoa.com/event/vca-office-closed-memorial-day-3/2026-05-25/
LOCATION:Vistoso Association Office\, 1171 E Rancho Vistoso Blvd - Suite #111\, Oro Valley\, AZ\, 85755\, United States
CATEGORIES:Holiday - Office Closed
ATTACH;FMTTYPE=image/jpeg:https://ranchovistosohoa.com/wp-content/uploads/2021/12/christmas-christmas-tree-presents-1869902-e1640881249148.jpg
GEO:32.456496;-110.98357
X-APPLE-STRUCTURED-LOCATION;VALUE=URI;X-ADDRESS=Vistoso Association Office 1171 E Rancho Vistoso Blvd - Suite #111 Oro Valley AZ 85755 United States;X-APPLE-RADIUS=500;X-TITLE=1171 E Rancho Vistoso Blvd - Suite #111:geo:-110.98357,32.456496
END:VEVENT
END:VCALENDAR