BEGIN:VCALENDAR
VERSION:2.0
PRODID:-//Welcome to Rancho Vistoso - ECPv6.15.20//NONSGML v1.0//EN
CALSCALE:GREGORIAN
METHOD:PUBLISH
X-WR-CALNAME:Welcome to Rancho Vistoso
X-ORIGINAL-URL:https://ranchovistosohoa.com
X-WR-CALDESC:Events for Welcome to Rancho Vistoso
REFRESH-INTERVAL;VALUE=DURATION:PT1H
X-Robots-Tag:noindex
X-PUBLISHED-TTL:PT1H
BEGIN:VTIMEZONE
TZID:America/Phoenix
BEGIN:STANDARD
TZOFFSETFROM:-0700
TZOFFSETTO:-0700
TZNAME:MST
DTSTART:20250101T000000
END:STANDARD
END:VTIMEZONE
BEGIN:VEVENT
DTSTART;TZID=America/Phoenix:20260729T150000
DTEND;TZID=America/Phoenix:20260729T160000
DTSTAMP:20260422T200225
CREATED:20260403T173827Z
LAST-MODIFIED:20260416T205126Z
UID:10001680-1785337200-1785340800@ranchovistosohoa.com
SUMMARY:Board of Directors Executive Session – Closed Meeting
DESCRIPTION:VCA Board of Directors (Executive Session) – Closed Meeting\n\nMeeting Schedule – 3:00PM\n  \nThis meeting is to discuss items pertaining to ARS 33- 1804 A. paragraph 1\, 3\, 4 & 5. (Closed Meeting)  \n33-1804. Open meetings; exceptions – https://www.azleg.gov/ars/33/01804.htm
URL:https://ranchovistosohoa.com/event/board-of-directors-executive-session-closed-meeting-9-2-2-3-2-2/2026-07-29/
LOCATION:Audio Visual Conference via Zoom
CATEGORIES:Board Meeting - Executive Session
ATTACH;FMTTYPE=image/png:https://ranchovistosohoa.com/wp-content/uploads/2020/01/vistoso-board.png
END:VEVENT
END:VCALENDAR