BEGIN:VCALENDAR
VERSION:2.0
PRODID:-//Welcome to Rancho Vistoso - ECPv6.15.20//NONSGML v1.0//EN
CALSCALE:GREGORIAN
METHOD:PUBLISH
X-WR-CALNAME:Welcome to Rancho Vistoso
X-ORIGINAL-URL:https://ranchovistosohoa.com
X-WR-CALDESC:Events for Welcome to Rancho Vistoso
REFRESH-INTERVAL;VALUE=DURATION:PT1H
X-Robots-Tag:noindex
X-PUBLISHED-TTL:PT1H
BEGIN:VTIMEZONE
TZID:America/Phoenix
BEGIN:STANDARD
TZOFFSETFROM:-0700
TZOFFSETTO:-0700
TZNAME:MST
DTSTART:20250101T000000
END:STANDARD
END:VTIMEZONE
BEGIN:VEVENT
DTSTART;VALUE=DATE:20261126
DTEND;VALUE=DATE:20261128
DTSTAMP:20260423T035109
CREATED:20251126T183707Z
LAST-MODIFIED:20251126T183708Z
UID:10000519-1795651200-1795823999@ranchovistosohoa.com
SUMMARY:VCA Office Closed - Thanksgiving Day
DESCRIPTION:
URL:https://ranchovistosohoa.com/event/vca-office-closed-thanksgiving-day-2-2/2026-11-26/
LOCATION:Vistoso Association Office\, 1171 E Rancho Vistoso Blvd - Suite #111\, Oro Valley\, AZ\, 85755\, United States
CATEGORIES:Holiday - Office Closed
ATTACH;FMTTYPE=image/jpeg:https://ranchovistosohoa.com/wp-content/uploads/2021/12/christmas-christmas-tree-presents-1869902-e1640881249148.jpg
GEO:32.456496;-110.98357
X-APPLE-STRUCTURED-LOCATION;VALUE=URI;X-ADDRESS=Vistoso Association Office 1171 E Rancho Vistoso Blvd - Suite #111 Oro Valley AZ 85755 United States;X-APPLE-RADIUS=500;X-TITLE=1171 E Rancho Vistoso Blvd - Suite #111:geo:-110.98357,32.456496
END:VEVENT
BEGIN:VEVENT
DTSTART;TZID=America/Phoenix:20261126T173000
DTEND;TZID=America/Phoenix:20261126T183000
DTSTAMP:20260423T035109
CREATED:20260320T223846Z
LAST-MODIFIED:20260403T173935Z
UID:10001605-1795714200-1795717800@ranchovistosohoa.com
SUMMARY:Board of Directors - General Session
DESCRIPTION:Vistoso Community Association Board of Directors Monthly (General Session)\nMeeting Schedule – 5:30PM\nMeeting platform via Zoom Video & Audio Conferencing\n  \nHomeowners are encouraged to join Zoom Meeting at \nhttps://us02web.zoom.us/j/8445866556 \nMeeting ID: 844 586 6556 \nQuestions can also be submitted in advance at AskVCA@ranchovistosohoa.com
URL:https://ranchovistosohoa.com/event/board-of-directors-general-session-2/2026-11-26/
LOCATION:Audio Visual Conference via Zoom
CATEGORIES:Board Meeting
ATTACH;FMTTYPE=image/png:https://ranchovistosohoa.com/wp-content/uploads/2020/01/vistoso-board.png
END:VEVENT
END:VCALENDAR