BEGIN:VCALENDAR
VERSION:2.0
PRODID:-//Welcome to Rancho Vistoso - ECPv6.15.20//NONSGML v1.0//EN
CALSCALE:GREGORIAN
METHOD:PUBLISH
X-WR-CALNAME:Welcome to Rancho Vistoso
X-ORIGINAL-URL:https://ranchovistosohoa.com
X-WR-CALDESC:Events for Welcome to Rancho Vistoso
REFRESH-INTERVAL;VALUE=DURATION:PT1H
X-Robots-Tag:noindex
X-PUBLISHED-TTL:PT1H
BEGIN:VTIMEZONE
TZID:America/Phoenix
BEGIN:STANDARD
TZOFFSETFROM:-0700
TZOFFSETTO:-0700
TZNAME:MST
DTSTART:20250101T000000
END:STANDARD
END:VTIMEZONE
BEGIN:VEVENT
DTSTART;TZID=America/Phoenix:20261203T151500
DTEND;TZID=America/Phoenix:20261203T161500
DTSTAMP:20260423T035114
CREATED:20251208T170558Z
LAST-MODIFIED:20251208T170558Z
UID:10001471-1796310900-1796314500@ranchovistosohoa.com
SUMMARY:Parks & Landscape Committee
DESCRIPTION:Parks & Landscape Committee\nParks & Landscape Committee\nFirst Thursday of the Month at 3:15 PM\nVia Zoom Videoconference – https://us02web.zoom.us/j/8445866556\nMeeting ID: 844 586 6556
URL:https://ranchovistosohoa.com/event/parks-landscape-committee-8/2026-12-03/
LOCATION:Audio Visual Conference via Zoom
CATEGORIES:Parks and Landscape Committee
ATTACH;FMTTYPE=image/jpeg:https://ranchovistosohoa.com/wp-content/uploads/2022/07/PV-Picture.jpg
END:VEVENT
END:VCALENDAR