BEGIN:VCALENDAR
VERSION:2.0
PRODID:-//Welcome to Rancho Vistoso - ECPv6.15.20//NONSGML v1.0//EN
CALSCALE:GREGORIAN
METHOD:PUBLISH
X-ORIGINAL-URL:https://ranchovistosohoa.com
X-WR-CALDESC:Events for Welcome to Rancho Vistoso
REFRESH-INTERVAL;VALUE=DURATION:PT1H
X-Robots-Tag:noindex
X-PUBLISHED-TTL:PT1H
BEGIN:VTIMEZONE
TZID:America/Phoenix
BEGIN:STANDARD
TZOFFSETFROM:-0700
TZOFFSETTO:-0700
TZNAME:MST
DTSTART:20250101T000000
END:STANDARD
END:VTIMEZONE
BEGIN:VEVENT
DTSTART;TZID=America/Phoenix:20260611T150000
DTEND;TZID=America/Phoenix:20260611T160000
DTSTAMP:20260419T083724
CREATED:20241108T234658Z
LAST-MODIFIED:20251208T170903Z
UID:10001526-1781190000-1781193600@ranchovistosohoa.com
SUMMARY:Communications Committee
DESCRIPTION:Communications Committee\nSecond Thursday of the Month at 3:00 PM\nVia Zoom Videoconference – https://us02web.zoom.us/j/8445866556\nMeeting ID: 844 586 6556
URL:https://ranchovistosohoa.com/event/communications-committee-2-2-2/2026-06-11/
LOCATION:Audio Visual Conference via Zoom
CATEGORIES:Communication Committee
ATTACH;FMTTYPE=image/png:https://ranchovistosohoa.com/wp-content/uploads/2022/05/Newsletter-Header.png
END:VEVENT
END:VCALENDAR