BEGIN:VCALENDAR
VERSION:2.0
PRODID:-//Welcome to Rancho Vistoso - ECPv6.15.20//NONSGML v1.0//EN
CALSCALE:GREGORIAN
METHOD:PUBLISH
X-ORIGINAL-URL:https://ranchovistosohoa.com
X-WR-CALDESC:Events for Welcome to Rancho Vistoso
REFRESH-INTERVAL;VALUE=DURATION:PT1H
X-Robots-Tag:noindex
X-PUBLISHED-TTL:PT1H
BEGIN:VTIMEZONE
TZID:America/Phoenix
BEGIN:STANDARD
TZOFFSETFROM:-0700
TZOFFSETTO:-0700
TZNAME:MST
DTSTART:20250101T000000
END:STANDARD
END:VTIMEZONE
BEGIN:VEVENT
DTSTART;VALUE=DATE:20260101
DTEND;VALUE=DATE:20260102
DTSTAMP:20260422T201602
CREATED:20231202T020950Z
LAST-MODIFIED:20231202T020950Z
UID:10000562-1767225600-1767311999@ranchovistosohoa.com
SUMMARY:VCA Office Closed - New Years Holiday
DESCRIPTION:
URL:https://ranchovistosohoa.com/event/vca-office-closed-new-years-holiday/2026-01-01/
LOCATION:Vistoso Association Office\, 1171 E Rancho Vistoso Blvd - Suite #111\, Oro Valley\, AZ\, 85755\, United States
CATEGORIES:Holiday - Office Closed
ATTACH;FMTTYPE=image/jpeg:https://ranchovistosohoa.com/wp-content/uploads/2023/10/s-eve-pyrotechnics-574739.jpg
GEO:32.456496;-110.98357
X-APPLE-STRUCTURED-LOCATION;VALUE=URI;X-ADDRESS=Vistoso Association Office 1171 E Rancho Vistoso Blvd - Suite #111 Oro Valley AZ 85755 United States;X-APPLE-RADIUS=500;X-TITLE=1171 E Rancho Vistoso Blvd - Suite #111:geo:-110.98357,32.456496
END:VEVENT
BEGIN:VEVENT
DTSTART;TZID=America/Phoenix:20260102T151500
DTEND;TZID=America/Phoenix:20260102T161500
DTSTAMP:20260422T201602
CREATED:20251208T170410Z
LAST-MODIFIED:20251208T170410Z
UID:10001460-1767366900-1767370500@ranchovistosohoa.com
SUMMARY:Parks & Landscape Committee
DESCRIPTION:Parks & Landscape Committee\nParks & Landscape Committee\nFirst Thursday of the Month at 3:15 PM\nVia Zoom Videoconference – https://us02web.zoom.us/j/8445866556\nMeeting ID: 844 586 6556
URL:https://ranchovistosohoa.com/event/parks-landscape-committee-7/
LOCATION:Audio Visual Conference via Zoom
CATEGORIES:Parks and Landscape Committee
ATTACH;FMTTYPE=image/jpeg:https://ranchovistosohoa.com/wp-content/uploads/2022/07/PV-Picture.jpg
END:VEVENT
BEGIN:VEVENT
DTSTART;TZID=America/Phoenix:20260107T160000
DTEND;TZID=America/Phoenix:20260107T170000
DTSTAMP:20260422T201602
CREATED:20251010T153712Z
LAST-MODIFIED:20251010T153712Z
UID:10000691-1767801600-1767805200@ranchovistosohoa.com
SUMMARY:Governing Documents Committee
DESCRIPTION:Governing Documents Committee\nFirst Wednesday of the Month at 4:00 PM\nVia Zoom Videoconference – https://us02web.zoom.us/j/8445866556\nMeeting ID: 844 586 6556 \nclick HERE to view the agenda\,
URL:https://ranchovistosohoa.com/event/governing-documents-committee-6-3-2/
LOCATION:Audio Visual Conference via Zoom
CATEGORIES:Governing Docs Committee
ATTACH;FMTTYPE=image/jpeg:https://ranchovistosohoa.com/wp-content/uploads/2021/12/qtq80-1utPiA-e1640203008532.jpeg
END:VEVENT
BEGIN:VEVENT
DTSTART;TZID=America/Phoenix:20260108T150000
DTEND;TZID=America/Phoenix:20260108T160000
DTSTAMP:20260422T201602
CREATED:20241108T234658Z
LAST-MODIFIED:20251208T170903Z
UID:10001521-1767884400-1767888000@ranchovistosohoa.com
SUMMARY:Communications Committee
DESCRIPTION:Communications Committee\nSecond Thursday of the Month at 3:00 PM\nVia Zoom Videoconference – https://us02web.zoom.us/j/8445866556\nMeeting ID: 844 586 6556
URL:https://ranchovistosohoa.com/event/communications-committee-2-2-2/2026-01-08/
LOCATION:Audio Visual Conference via Zoom
CATEGORIES:Communication Committee
ATTACH;FMTTYPE=image/png:https://ranchovistosohoa.com/wp-content/uploads/2022/05/Newsletter-Header.png
END:VEVENT
BEGIN:VEVENT
DTSTART;TZID=America/Phoenix:20260113T153000
DTEND;TZID=America/Phoenix:20260113T170000
DTSTAMP:20260422T201602
CREATED:20240802T165420Z
LAST-MODIFIED:20240802T165421Z
UID:10001005-1768318200-1768323600@ranchovistosohoa.com
SUMMARY:Compliance Committee
DESCRIPTION:Compliance Committee\nSecond Tuesday of the Month at 3:30 PM\nVia Zoom Videoconference – https://us02web.zoom.us/j/8445866556\nMeeting ID: 844 586 6556
URL:https://ranchovistosohoa.com/event/compliance-committee-3-2-2/2026-01-13/
LOCATION:Audio Visual Conference via Zoom
CATEGORIES:Compliance Committee
ATTACH;FMTTYPE=image/jpeg:https://ranchovistosohoa.com/wp-content/uploads/2021/12/qtq80-UqgOPw-e1640209658158.jpeg
END:VEVENT
BEGIN:VEVENT
DTSTART;TZID=America/Phoenix:20260114T150000
DTEND;TZID=America/Phoenix:20260114T160000
DTSTAMP:20260422T201602
CREATED:20240911T234458Z
LAST-MODIFIED:20240911T234459Z
UID:10000764-1768402800-1768406400@ranchovistosohoa.com
SUMMARY:Architectural and Landscaping Review Committee
DESCRIPTION:ALRC Meeting Second Wednesday of the Month at 3:00 PM \nVia Zoom Videoconference \nhttps://us02web.zoom.us/j/8445866556 Meeting ID: 844 586 6556
URL:https://ranchovistosohoa.com/event/architectural-and-landscaping-review-committee-2-2/2026-01-14/
LOCATION:Audio Visual Conference via Zoom
CATEGORIES:ALRC
ATTACH;FMTTYPE=image/jpeg:https://ranchovistosohoa.com/wp-content/uploads/2021/12/qtq80-MmDIyT-e1640202501904.jpeg
END:VEVENT
BEGIN:VEVENT
DTSTART;VALUE=DATE:20260119
DTEND;VALUE=DATE:20260120
DTSTAMP:20260422T201602
CREATED:20230113T232720Z
LAST-MODIFIED:20231010T000312Z
UID:10000547-1768780800-1768867199@ranchovistosohoa.com
SUMMARY:VCA Office Closed - Martin Luther King Day
DESCRIPTION:
URL:https://ranchovistosohoa.com/event/vca-office-closed-martin-luther-king-day/2026-01-19/
LOCATION:Vistoso Association Office\, 1171 E Rancho Vistoso Blvd - Suite #111\, Oro Valley\, AZ\, 85755\, United States
CATEGORIES:Holiday - Office Closed
ATTACH;FMTTYPE=image/jpeg:https://ranchovistosohoa.com/wp-content/uploads/2021/12/christmas-christmas-tree-presents-1869902-e1640881249148.jpg
GEO:32.456496;-110.98357
X-APPLE-STRUCTURED-LOCATION;VALUE=URI;X-ADDRESS=Vistoso Association Office 1171 E Rancho Vistoso Blvd - Suite #111 Oro Valley AZ 85755 United States;X-APPLE-RADIUS=500;X-TITLE=1171 E Rancho Vistoso Blvd - Suite #111:geo:-110.98357,32.456496
END:VEVENT
BEGIN:VEVENT
DTSTART;TZID=America/Phoenix:20260120T150000
DTEND;TZID=America/Phoenix:20260120T160000
DTSTAMP:20260422T201602
CREATED:20250314T174457Z
LAST-MODIFIED:20260403T174532Z
UID:10001725-1768921200-1768924800@ranchovistosohoa.com
SUMMARY:Finance Committee
DESCRIPTION:Finance Committee Meeting \nThird Tuesday of the Month at 3:00 PM \nVia Zoom Videoconference –  https://us02web.zoom.us/j/8445866556 \nMeeting ID: 844 586 6556
URL:https://ranchovistosohoa.com/event/finance-committee-6-2-3-2/2026-01-20/
LOCATION:Audio Visual Conference via Zoom
CATEGORIES:Finance Committee
ATTACH;FMTTYPE=image/jpeg:https://ranchovistosohoa.com/wp-content/uploads/2020/10/qtq80-Pr2EvZ.jpeg
END:VEVENT
BEGIN:VEVENT
DTSTART;TZID=America/Phoenix:20260128T150000
DTEND;TZID=America/Phoenix:20260128T160000
DTSTAMP:20260422T201602
CREATED:20251117T163912Z
LAST-MODIFIED:20251117T164136Z
UID:10001370-1769612400-1769616000@ranchovistosohoa.com
SUMMARY:Board of Directors Executive Session – Closed Meeting
DESCRIPTION:VCA Board of Directors (Executive Session) – Closed Meeting\n\nMeeting Schedule – 3:00PM\n  \nThis meeting is to discuss items pertaining to ARS 33- 1804 A. paragraph 1\, 3\, 4 & 5. (Closed Meeting)  \n33-1804. Open meetings; exceptions – https://www.azleg.gov/ars/33/01804.htm
URL:https://ranchovistosohoa.com/event/board-of-directors-executive-session-closed-meeting-9-2-2-3/2026-01-28/
LOCATION:Audio Visual Conference via Zoom
CATEGORIES:Board Meeting - Executive Session
ATTACH;FMTTYPE=image/png:https://ranchovistosohoa.com/wp-content/uploads/2020/01/vistoso-board.png
END:VEVENT
BEGIN:VEVENT
DTSTART;TZID=America/Phoenix:20260129T173000
DTEND;TZID=America/Phoenix:20260129T190000
DTSTAMP:20260422T201602
CREATED:20260125T215629Z
LAST-MODIFIED:20260125T220559Z
UID:10001405-1769707800-1769713200@ranchovistosohoa.com
SUMMARY:Board of Directors - General Session
DESCRIPTION:Vistoso Community Association Board of Directors Monthly (General Session)\nMeeting Schedule – 5:30PM\nMeeting platform via Zoom Video & Audio Conferencing\n  \nClick HERE to download the agenda and board packet. \nHomeowners are encouraged to join Zoom Meeting at \nhttps://us02web.zoom.us/j/8445866556 \nMeeting ID: 844 586 6556 \nQuestions can also be submitted in advance at AskVCA@ranchovistosohoa.com
URL:https://ranchovistosohoa.com/event/board-of-directors-general-session-9-13-2026-01-29/
LOCATION:Audio Visual Conference via Zoom
CATEGORIES:Board Meeting
ATTACH;FMTTYPE=image/png:https://ranchovistosohoa.com/wp-content/uploads/2020/01/vistoso-board.png
END:VEVENT
BEGIN:VEVENT
DTSTART;TZID=America/Phoenix:20260205T151500
DTEND;TZID=America/Phoenix:20260205T161500
DTSTAMP:20260422T201602
CREATED:20251208T170558Z
LAST-MODIFIED:20251208T170558Z
UID:10001461-1770304500-1770308100@ranchovistosohoa.com
SUMMARY:Parks & Landscape Committee
DESCRIPTION:Parks & Landscape Committee\nParks & Landscape Committee\nFirst Thursday of the Month at 3:15 PM\nVia Zoom Videoconference – https://us02web.zoom.us/j/8445866556\nMeeting ID: 844 586 6556
URL:https://ranchovistosohoa.com/event/parks-landscape-committee-8/2026-02-05/
LOCATION:Audio Visual Conference via Zoom
CATEGORIES:Parks and Landscape Committee
ATTACH;FMTTYPE=image/jpeg:https://ranchovistosohoa.com/wp-content/uploads/2022/07/PV-Picture.jpg
END:VEVENT
BEGIN:VEVENT
DTSTART;TZID=America/Phoenix:20260210T153000
DTEND;TZID=America/Phoenix:20260210T170000
DTSTAMP:20260422T201602
CREATED:20240802T165420Z
LAST-MODIFIED:20240802T165421Z
UID:10001006-1770737400-1770742800@ranchovistosohoa.com
SUMMARY:Compliance Committee
DESCRIPTION:Compliance Committee\nSecond Tuesday of the Month at 3:30 PM\nVia Zoom Videoconference – https://us02web.zoom.us/j/8445866556\nMeeting ID: 844 586 6556
URL:https://ranchovistosohoa.com/event/compliance-committee-3-2-2/2026-02-10/
LOCATION:Audio Visual Conference via Zoom
CATEGORIES:Compliance Committee
ATTACH;FMTTYPE=image/jpeg:https://ranchovistosohoa.com/wp-content/uploads/2021/12/qtq80-UqgOPw-e1640209658158.jpeg
END:VEVENT
BEGIN:VEVENT
DTSTART;TZID=America/Phoenix:20260211T150000
DTEND;TZID=America/Phoenix:20260211T160000
DTSTAMP:20260422T201602
CREATED:20240911T234458Z
LAST-MODIFIED:20240911T234459Z
UID:10000765-1770822000-1770825600@ranchovistosohoa.com
SUMMARY:Architectural and Landscaping Review Committee
DESCRIPTION:ALRC Meeting Second Wednesday of the Month at 3:00 PM \nVia Zoom Videoconference \nhttps://us02web.zoom.us/j/8445866556 Meeting ID: 844 586 6556
URL:https://ranchovistosohoa.com/event/architectural-and-landscaping-review-committee-2-2/2026-02-11/
LOCATION:Audio Visual Conference via Zoom
CATEGORIES:ALRC
ATTACH;FMTTYPE=image/jpeg:https://ranchovistosohoa.com/wp-content/uploads/2021/12/qtq80-MmDIyT-e1640202501904.jpeg
END:VEVENT
BEGIN:VEVENT
DTSTART;TZID=America/Phoenix:20260212T150000
DTEND;TZID=America/Phoenix:20260212T160000
DTSTAMP:20260422T201602
CREATED:20241108T234658Z
LAST-MODIFIED:20251208T170903Z
UID:10001522-1770908400-1770912000@ranchovistosohoa.com
SUMMARY:Communications Committee
DESCRIPTION:Communications Committee\nSecond Thursday of the Month at 3:00 PM\nVia Zoom Videoconference – https://us02web.zoom.us/j/8445866556\nMeeting ID: 844 586 6556
URL:https://ranchovistosohoa.com/event/communications-committee-2-2-2/2026-02-12/
LOCATION:Audio Visual Conference via Zoom
CATEGORIES:Communication Committee
ATTACH;FMTTYPE=image/png:https://ranchovistosohoa.com/wp-content/uploads/2022/05/Newsletter-Header.png
END:VEVENT
BEGIN:VEVENT
DTSTART;VALUE=DATE:20260216
DTEND;VALUE=DATE:20260217
DTSTAMP:20260422T201602
CREATED:20230207T154854Z
LAST-MODIFIED:20231009T235202Z
UID:10000532-1771200000-1771286399@ranchovistosohoa.com
SUMMARY:VCA Office Closed - Presidents Day
DESCRIPTION:
URL:https://ranchovistosohoa.com/event/vca-office-closed-presidents-day-2/2026-02-16/
LOCATION:Vistoso Association Office\, 1171 E Rancho Vistoso Blvd - Suite #111\, Oro Valley\, AZ\, 85755\, United States
CATEGORIES:Holiday - Office Closed
GEO:32.456496;-110.98357
X-APPLE-STRUCTURED-LOCATION;VALUE=URI;X-ADDRESS=Vistoso Association Office 1171 E Rancho Vistoso Blvd - Suite #111 Oro Valley AZ 85755 United States;X-APPLE-RADIUS=500;X-TITLE=1171 E Rancho Vistoso Blvd - Suite #111:geo:-110.98357,32.456496
END:VEVENT
BEGIN:VEVENT
DTSTART;TZID=America/Phoenix:20260217T150000
DTEND;TZID=America/Phoenix:20260217T160000
DTSTAMP:20260422T201602
CREATED:20250314T174457Z
LAST-MODIFIED:20260403T174532Z
UID:10001726-1771340400-1771344000@ranchovistosohoa.com
SUMMARY:Finance Committee
DESCRIPTION:Finance Committee Meeting \nThird Tuesday of the Month at 3:00 PM \nVia Zoom Videoconference –  https://us02web.zoom.us/j/8445866556 \nMeeting ID: 844 586 6556
URL:https://ranchovistosohoa.com/event/finance-committee-6-2-3-2/2026-02-17/
LOCATION:Audio Visual Conference via Zoom
CATEGORIES:Finance Committee
ATTACH;FMTTYPE=image/jpeg:https://ranchovistosohoa.com/wp-content/uploads/2020/10/qtq80-Pr2EvZ.jpeg
END:VEVENT
BEGIN:VEVENT
DTSTART;TZID=America/Phoenix:20260225T150000
DTEND;TZID=America/Phoenix:20260225T160000
DTSTAMP:20260422T201602
CREATED:20251117T163912Z
LAST-MODIFIED:20251117T164136Z
UID:10001371-1772031600-1772035200@ranchovistosohoa.com
SUMMARY:Board of Directors Executive Session – Closed Meeting
DESCRIPTION:VCA Board of Directors (Executive Session) – Closed Meeting\n\nMeeting Schedule – 3:00PM\n  \nThis meeting is to discuss items pertaining to ARS 33- 1804 A. paragraph 1\, 3\, 4 & 5. (Closed Meeting)  \n33-1804. Open meetings; exceptions – https://www.azleg.gov/ars/33/01804.htm
URL:https://ranchovistosohoa.com/event/board-of-directors-executive-session-closed-meeting-9-2-2-3/2026-02-25/
LOCATION:Audio Visual Conference via Zoom
CATEGORIES:Board Meeting - Executive Session
ATTACH;FMTTYPE=image/png:https://ranchovistosohoa.com/wp-content/uploads/2020/01/vistoso-board.png
END:VEVENT
BEGIN:VEVENT
DTSTART;TZID=America/Phoenix:20260226T173000
DTEND;TZID=America/Phoenix:20260226T190000
DTSTAMP:20260422T201602
CREATED:20260211T220647Z
LAST-MODIFIED:20260219T194543Z
UID:10001591-1772127000-1772132400@ranchovistosohoa.com
SUMMARY:Board of Directors - General Session
DESCRIPTION:Vistoso Community Association Board of Directors Monthly (General Session)\nMeeting Schedule – 5:30PM\nMeeting platform via Zoom Video & Audio Conferencing\n  \nClick HERE to download the meeting agenda and packet. \nHomeowners are encouraged to join Zoom Meeting at \nhttps://us02web.zoom.us/j/8445866556 \nMeeting ID: 844 586 6556 \nQuestions can also be submitted in advance at AskVCA@ranchovistosohoa.com
URL:https://ranchovistosohoa.com/event/board-of-directors-general-session/
LOCATION:Audio Visual Conference via Zoom
CATEGORIES:Board Meeting
ATTACH;FMTTYPE=image/png:https://ranchovistosohoa.com/wp-content/uploads/2020/01/vistoso-board.png
END:VEVENT
BEGIN:VEVENT
DTSTART;TZID=America/Phoenix:20260305T151500
DTEND;TZID=America/Phoenix:20260305T161500
DTSTAMP:20260422T201602
CREATED:20251208T170558Z
LAST-MODIFIED:20251208T170558Z
UID:10001462-1772723700-1772727300@ranchovistosohoa.com
SUMMARY:Parks & Landscape Committee
DESCRIPTION:Parks & Landscape Committee\nParks & Landscape Committee\nFirst Thursday of the Month at 3:15 PM\nVia Zoom Videoconference – https://us02web.zoom.us/j/8445866556\nMeeting ID: 844 586 6556
URL:https://ranchovistosohoa.com/event/parks-landscape-committee-8/2026-03-05/
LOCATION:Audio Visual Conference via Zoom
CATEGORIES:Parks and Landscape Committee
ATTACH;FMTTYPE=image/jpeg:https://ranchovistosohoa.com/wp-content/uploads/2022/07/PV-Picture.jpg
END:VEVENT
BEGIN:VEVENT
DTSTART;TZID=America/Phoenix:20260310T153000
DTEND;TZID=America/Phoenix:20260310T170000
DTSTAMP:20260422T201602
CREATED:20240802T165420Z
LAST-MODIFIED:20240802T165421Z
UID:10001007-1773156600-1773162000@ranchovistosohoa.com
SUMMARY:Compliance Committee
DESCRIPTION:Compliance Committee\nSecond Tuesday of the Month at 3:30 PM\nVia Zoom Videoconference – https://us02web.zoom.us/j/8445866556\nMeeting ID: 844 586 6556
URL:https://ranchovistosohoa.com/event/compliance-committee-3-2-2/2026-03-10/
LOCATION:Audio Visual Conference via Zoom
CATEGORIES:Compliance Committee
ATTACH;FMTTYPE=image/jpeg:https://ranchovistosohoa.com/wp-content/uploads/2021/12/qtq80-UqgOPw-e1640209658158.jpeg
END:VEVENT
BEGIN:VEVENT
DTSTART;TZID=America/Phoenix:20260311T150000
DTEND;TZID=America/Phoenix:20260311T160000
DTSTAMP:20260422T201602
CREATED:20240911T234458Z
LAST-MODIFIED:20240911T234459Z
UID:10000766-1773241200-1773244800@ranchovistosohoa.com
SUMMARY:Architectural and Landscaping Review Committee
DESCRIPTION:ALRC Meeting Second Wednesday of the Month at 3:00 PM \nVia Zoom Videoconference \nhttps://us02web.zoom.us/j/8445866556 Meeting ID: 844 586 6556
URL:https://ranchovistosohoa.com/event/architectural-and-landscaping-review-committee-2-2/2026-03-11/
LOCATION:Audio Visual Conference via Zoom
CATEGORIES:ALRC
ATTACH;FMTTYPE=image/jpeg:https://ranchovistosohoa.com/wp-content/uploads/2021/12/qtq80-MmDIyT-e1640202501904.jpeg
END:VEVENT
BEGIN:VEVENT
DTSTART;TZID=America/Phoenix:20260312T150000
DTEND;TZID=America/Phoenix:20260312T160000
DTSTAMP:20260422T201602
CREATED:20241108T234658Z
LAST-MODIFIED:20251208T170903Z
UID:10001523-1773327600-1773331200@ranchovistosohoa.com
SUMMARY:Communications Committee
DESCRIPTION:Communications Committee\nSecond Thursday of the Month at 3:00 PM\nVia Zoom Videoconference – https://us02web.zoom.us/j/8445866556\nMeeting ID: 844 586 6556
URL:https://ranchovistosohoa.com/event/communications-committee-2-2-2/2026-03-12/
LOCATION:Audio Visual Conference via Zoom
CATEGORIES:Communication Committee
ATTACH;FMTTYPE=image/png:https://ranchovistosohoa.com/wp-content/uploads/2022/05/Newsletter-Header.png
END:VEVENT
BEGIN:VEVENT
DTSTART;TZID=America/Phoenix:20260317T150000
DTEND;TZID=America/Phoenix:20260317T160000
DTSTAMP:20260422T201602
CREATED:20250314T174457Z
LAST-MODIFIED:20260403T174532Z
UID:10001727-1773759600-1773763200@ranchovistosohoa.com
SUMMARY:Finance Committee
DESCRIPTION:Finance Committee Meeting \nThird Tuesday of the Month at 3:00 PM \nVia Zoom Videoconference –  https://us02web.zoom.us/j/8445866556 \nMeeting ID: 844 586 6556
URL:https://ranchovistosohoa.com/event/finance-committee-6-2-3-2/2026-03-17/
LOCATION:Audio Visual Conference via Zoom
CATEGORIES:Finance Committee
ATTACH;FMTTYPE=image/jpeg:https://ranchovistosohoa.com/wp-content/uploads/2020/10/qtq80-Pr2EvZ.jpeg
END:VEVENT
BEGIN:VEVENT
DTSTART;TZID=America/Phoenix:20260325T150000
DTEND;TZID=America/Phoenix:20260325T160000
DTSTAMP:20260422T201602
CREATED:20260320T224251Z
LAST-MODIFIED:20260320T224253Z
UID:10001372-1774450800-1774454400@ranchovistosohoa.com
SUMMARY:Board of Directors Executive Session – Closed Meeting
DESCRIPTION:VCA Board of Directors (Executive Session) – Closed Meeting\n\nMeeting Schedule – 3:00PM\n  \nThis meeting is to discuss items pertaining to ARS 33- 1804 A. paragraph 1\, 3\, 4 & 5. (Closed Meeting)  \n33-1804. Open meetings; exceptions – https://www.azleg.gov/ars/33/01804.htm
URL:https://ranchovistosohoa.com/event/board-of-directors-executive-session-closed-meeting-9-2-2-3-2/
LOCATION:Audio Visual Conference via Zoom
CATEGORIES:Board Meeting - Executive Session
ATTACH;FMTTYPE=image/png:https://ranchovistosohoa.com/wp-content/uploads/2020/01/vistoso-board.png
END:VEVENT
BEGIN:VEVENT
DTSTART;TZID=America/Phoenix:20260326T180000
DTEND;TZID=America/Phoenix:20260326T190000
DTSTAMP:20260422T201602
CREATED:20260206T180603Z
LAST-MODIFIED:20260311T181804Z
UID:10001569-1774548000-1774551600@ranchovistosohoa.com
SUMMARY:Board of Directors - Annual Meeting
DESCRIPTION:Vistoso Community Association Board of Directors Annual Meeting\nMeeting Schedule – 6:00PM\nMeeting platform via Zoom Video & Audio Conferencing\n  \nClick HERE to download the Annual Meeting Agenda \nClick HERE to download the Organizational Meeting Agenda \nThe Annual Meeting is scheduled for Thursday\, March 26\, 2026\, at 6:00 PM. An organizational meeting will immediately follow. \nHomeowners are encouraged to join Zoom Meeting at \nhttps://us02web.zoom.us/j/8445866556 \nMeeting ID: 844 586 6556 \nQuestions can also be submitted in advance at AskVCA@ranchovistosohoa.com
URL:https://ranchovistosohoa.com/event/board-of-directors-annual-meeting/
LOCATION:Audio Visual Conference via Zoom
CATEGORIES:Board Meeting
ATTACH;FMTTYPE=image/png:https://ranchovistosohoa.com/wp-content/uploads/2020/01/vistoso-board.png
END:VEVENT
BEGIN:VEVENT
DTSTART;TZID=America/Phoenix:20260401T160000
DTEND;TZID=America/Phoenix:20260401T170000
DTSTAMP:20260422T201602
CREATED:20260203T224914Z
LAST-MODIFIED:20260203T225229Z
UID:10000694-1775059200-1775062800@ranchovistosohoa.com
SUMMARY:Governing Documents Committee
DESCRIPTION:Governing Documents Committee\nFirst Wednesday of the Month at 4:00 PM\nVia Zoom Videoconference – https://us02web.zoom.us/j/8445866556\nMeeting ID: 844 586 6556 \nclick HERE to view the agenda\,
URL:https://ranchovistosohoa.com/event/governing-documents-committee-6-3-2-2/2026-04-01/
LOCATION:Audio Visual Conference via Zoom
CATEGORIES:Governing Docs Committee
ATTACH;FMTTYPE=image/jpeg:https://ranchovistosohoa.com/wp-content/uploads/2021/12/qtq80-1utPiA-e1640203008532.jpeg
END:VEVENT
BEGIN:VEVENT
DTSTART;TZID=America/Phoenix:20260402T151500
DTEND;TZID=America/Phoenix:20260402T161500
DTSTAMP:20260422T201602
CREATED:20251208T170558Z
LAST-MODIFIED:20251208T170558Z
UID:10001463-1775142900-1775146500@ranchovistosohoa.com
SUMMARY:Parks & Landscape Committee
DESCRIPTION:Parks & Landscape Committee\nParks & Landscape Committee\nFirst Thursday of the Month at 3:15 PM\nVia Zoom Videoconference – https://us02web.zoom.us/j/8445866556\nMeeting ID: 844 586 6556
URL:https://ranchovistosohoa.com/event/parks-landscape-committee-8/2026-04-02/
LOCATION:Audio Visual Conference via Zoom
CATEGORIES:Parks and Landscape Committee
ATTACH;FMTTYPE=image/jpeg:https://ranchovistosohoa.com/wp-content/uploads/2022/07/PV-Picture.jpg
END:VEVENT
BEGIN:VEVENT
DTSTART;TZID=America/Phoenix:20260408T150000
DTEND;TZID=America/Phoenix:20260408T160000
DTSTAMP:20260422T201602
CREATED:20240911T234458Z
LAST-MODIFIED:20240911T234459Z
UID:10000767-1775660400-1775664000@ranchovistosohoa.com
SUMMARY:Architectural and Landscaping Review Committee
DESCRIPTION:ALRC Meeting Second Wednesday of the Month at 3:00 PM \nVia Zoom Videoconference \nhttps://us02web.zoom.us/j/8445866556 Meeting ID: 844 586 6556
URL:https://ranchovistosohoa.com/event/architectural-and-landscaping-review-committee-2-2/2026-04-08/
LOCATION:Audio Visual Conference via Zoom
CATEGORIES:ALRC
ATTACH;FMTTYPE=image/jpeg:https://ranchovistosohoa.com/wp-content/uploads/2021/12/qtq80-MmDIyT-e1640202501904.jpeg
END:VEVENT
BEGIN:VEVENT
DTSTART;TZID=America/Phoenix:20260409T150000
DTEND;TZID=America/Phoenix:20260409T160000
DTSTAMP:20260422T201602
CREATED:20241108T234658Z
LAST-MODIFIED:20251208T170903Z
UID:10001524-1775746800-1775750400@ranchovistosohoa.com
SUMMARY:Communications Committee
DESCRIPTION:Communications Committee\nSecond Thursday of the Month at 3:00 PM\nVia Zoom Videoconference – https://us02web.zoom.us/j/8445866556\nMeeting ID: 844 586 6556
URL:https://ranchovistosohoa.com/event/communications-committee-2-2-2/2026-04-09/
LOCATION:Audio Visual Conference via Zoom
CATEGORIES:Communication Committee
ATTACH;FMTTYPE=image/png:https://ranchovistosohoa.com/wp-content/uploads/2022/05/Newsletter-Header.png
END:VEVENT
BEGIN:VEVENT
DTSTART;TZID=America/Phoenix:20260414T153000
DTEND;TZID=America/Phoenix:20260414T170000
DTSTAMP:20260422T201602
CREATED:20240802T165420Z
LAST-MODIFIED:20240802T165421Z
UID:10001008-1776180600-1776186000@ranchovistosohoa.com
SUMMARY:Compliance Committee
DESCRIPTION:Compliance Committee\nSecond Tuesday of the Month at 3:30 PM\nVia Zoom Videoconference – https://us02web.zoom.us/j/8445866556\nMeeting ID: 844 586 6556
URL:https://ranchovistosohoa.com/event/compliance-committee-3-2-2/2026-04-14/
LOCATION:Audio Visual Conference via Zoom
CATEGORIES:Compliance Committee
ATTACH;FMTTYPE=image/jpeg:https://ranchovistosohoa.com/wp-content/uploads/2021/12/qtq80-UqgOPw-e1640209658158.jpeg
END:VEVENT
END:VCALENDAR