BEGIN:VCALENDAR
VERSION:2.0
PRODID:-//Welcome to Rancho Vistoso - ECPv6.15.20//NONSGML v1.0//EN
CALSCALE:GREGORIAN
METHOD:PUBLISH
X-ORIGINAL-URL:https://ranchovistosohoa.com
X-WR-CALDESC:Events for Welcome to Rancho Vistoso
REFRESH-INTERVAL;VALUE=DURATION:PT1H
X-Robots-Tag:noindex
X-PUBLISHED-TTL:PT1H
BEGIN:VTIMEZONE
TZID:America/Phoenix
BEGIN:STANDARD
TZOFFSETFROM:-0700
TZOFFSETTO:-0700
TZNAME:MST
DTSTART:20240101T000000
END:STANDARD
END:VTIMEZONE
BEGIN:VEVENT
DTSTART;VALUE=DATE:20250704
DTEND;VALUE=DATE:20250705
DTSTAMP:20260423T151200
CREATED:20230113T233218Z
LAST-MODIFIED:20231009T235009Z
UID:10000526-1751587200-1751673599@ranchovistosohoa.com
SUMMARY:VCA Office Closed - Independence Day
DESCRIPTION:
URL:https://ranchovistosohoa.com/event/vca-office-closed-independence-day-2/2025-07-04/
LOCATION:Vistoso Association Office\, 1171 E Rancho Vistoso Blvd - Suite #111\, Oro Valley\, AZ\, 85755\, United States
CATEGORIES:Holiday - Office Closed
ATTACH;FMTTYPE=image/jpeg:https://ranchovistosohoa.com/wp-content/uploads/2021/12/christmas-christmas-tree-presents-1869902-e1640881249148.jpg
GEO:32.456496;-110.98357
X-APPLE-STRUCTURED-LOCATION;VALUE=URI;X-ADDRESS=Vistoso Association Office 1171 E Rancho Vistoso Blvd - Suite #111 Oro Valley AZ 85755 United States;X-APPLE-RADIUS=500;X-TITLE=1171 E Rancho Vistoso Blvd - Suite #111:geo:-110.98357,32.456496
END:VEVENT
BEGIN:VEVENT
DTSTART;TZID=America/Phoenix:20250708T153000
DTEND;TZID=America/Phoenix:20250708T170000
DTSTAMP:20260423T151200
CREATED:20240802T165420Z
LAST-MODIFIED:20240802T165421Z
UID:10000999-1751988600-1751994000@ranchovistosohoa.com
SUMMARY:Compliance Committee
DESCRIPTION:Compliance Committee\nSecond Tuesday of the Month at 3:30 PM\nVia Zoom Videoconference – https://us02web.zoom.us/j/8445866556\nMeeting ID: 844 586 6556
URL:https://ranchovistosohoa.com/event/compliance-committee-3-2-2/2025-07-08/
LOCATION:Audio Visual Conference via Zoom
CATEGORIES:Compliance Committee
ATTACH;FMTTYPE=image/jpeg:https://ranchovistosohoa.com/wp-content/uploads/2021/12/qtq80-UqgOPw-e1640209658158.jpeg
END:VEVENT
BEGIN:VEVENT
DTSTART;TZID=America/Phoenix:20250709T150000
DTEND;TZID=America/Phoenix:20250709T160000
DTSTAMP:20260423T151200
CREATED:20240911T234458Z
LAST-MODIFIED:20240911T234459Z
UID:10000758-1752073200-1752076800@ranchovistosohoa.com
SUMMARY:Architectural and Landscaping Review Committee
DESCRIPTION:ALRC Meeting Second Wednesday of the Month at 3:00 PM \nVia Zoom Videoconference \nhttps://us02web.zoom.us/j/8445866556 Meeting ID: 844 586 6556
URL:https://ranchovistosohoa.com/event/architectural-and-landscaping-review-committee-2-2/2025-07-09/
LOCATION:Audio Visual Conference via Zoom
CATEGORIES:ALRC
ATTACH;FMTTYPE=image/jpeg:https://ranchovistosohoa.com/wp-content/uploads/2021/12/qtq80-MmDIyT-e1640202501904.jpeg
END:VEVENT
BEGIN:VEVENT
DTSTART;TZID=America/Phoenix:20250710T150000
DTEND;TZID=America/Phoenix:20250710T160000
DTSTAMP:20260423T151200
CREATED:20241108T234658Z
LAST-MODIFIED:20251208T170903Z
UID:10001247-1752159600-1752163200@ranchovistosohoa.com
SUMMARY:Communications Committee
DESCRIPTION:Communications Committee\nSecond Thursday of the Month at 3:00 PM\nVia Zoom Videoconference – https://us02web.zoom.us/j/8445866556\nMeeting ID: 844 586 6556
URL:https://ranchovistosohoa.com/event/communications-committee-2-2-2/2025-07-10/
LOCATION:Audio Visual Conference via Zoom
CATEGORIES:Communication Committee
ATTACH;FMTTYPE=image/png:https://ranchovistosohoa.com/wp-content/uploads/2022/05/Newsletter-Header.png
END:VEVENT
BEGIN:VEVENT
DTSTART;TZID=America/Phoenix:20250715T150000
DTEND;TZID=America/Phoenix:20250715T160000
DTSTAMP:20260423T151200
CREATED:20250314T174457Z
LAST-MODIFIED:20260403T174532Z
UID:10001235-1752591600-1752595200@ranchovistosohoa.com
SUMMARY:Finance Committee
DESCRIPTION:Finance Committee Meeting \nThird Tuesday of the Month at 3:00 PM \nVia Zoom Videoconference –  https://us02web.zoom.us/j/8445866556 \nMeeting ID: 844 586 6556
URL:https://ranchovistosohoa.com/event/finance-committee-6-2-3-2/2025-07-15/
LOCATION:Audio Visual Conference via Zoom
CATEGORIES:Finance Committee
ATTACH;FMTTYPE=image/jpeg:https://ranchovistosohoa.com/wp-content/uploads/2020/10/qtq80-Pr2EvZ.jpeg
END:VEVENT
BEGIN:VEVENT
DTSTART;TZID=America/Phoenix:20250728T080000
DTEND;TZID=America/Phoenix:20250729T170000
DTSTAMP:20260423T151200
CREATED:20250727T222540Z
LAST-MODIFIED:20250727T222540Z
UID:10001424-1753689600-1753808400@ranchovistosohoa.com
SUMMARY:VCA Office Closed - Office Move
DESCRIPTION:
URL:https://ranchovistosohoa.com/event/vca-office-closed-office-move/
LOCATION:Audio Visual Conference via Zoom
END:VEVENT
BEGIN:VEVENT
DTSTART;TZID=America/Phoenix:20250730T150000
DTEND;TZID=America/Phoenix:20250730T160000
DTSTAMP:20260423T151200
CREATED:20250308T173840Z
LAST-MODIFIED:20250308T173841Z
UID:10001344-1753887600-1753891200@ranchovistosohoa.com
SUMMARY:Board of Directors Executive Session – Closed Meeting
DESCRIPTION:VCA Board of Directors (Executive Session) – Closed Meeting\n\nMeeting Schedule – 3:00PM\n  \nThis meeting is to discuss items pertaining to ARS 33- 1804 A. paragraph 1\, 3\, 4 & 5. (Closed Meeting)  \n33-1804. Open meetings; exceptions – https://www.azleg.gov/ars/33/01804.htm
URL:https://ranchovistosohoa.com/event/board-of-directors-executive-session-closed-meeting-9-2-2/2025-07-30/
LOCATION:Audio Visual Conference via Zoom
CATEGORIES:Board Meeting - Executive Session
ATTACH;FMTTYPE=image/png:https://ranchovistosohoa.com/wp-content/uploads/2020/01/vistoso-board.png
END:VEVENT
BEGIN:VEVENT
DTSTART;TZID=America/Phoenix:20250731T173000
DTEND;TZID=America/Phoenix:20250731T190000
DTSTAMP:20260423T151200
CREATED:20250727T005903Z
LAST-MODIFIED:20250727T005905Z
UID:10001403-1753983000-1753988400@ranchovistosohoa.com
SUMMARY:Board of Directors - General Session
DESCRIPTION:Vistoso Community Association Board of Directors Monthly (General Session)\nMeeting Schedule – 5:30PM\nMeeting platform via Zoom Video & Audio Conferencing\n  \nClick HERE to download the meeting agenda and packet. \nHomeowners are encouraged to join Zoom Meeting at \nhttps://us02web.zoom.us/j/8445866556 \nMeeting ID: 844 586 6556 \nQuestions can also be submitted in advance at AskVCA@ranchovistosohoa.com
URL:https://ranchovistosohoa.com/event/board-of-directors-general-session-9-13-5/
LOCATION:Audio Visual Conference via Zoom
CATEGORIES:Board Meeting
ATTACH;FMTTYPE=image/png:https://ranchovistosohoa.com/wp-content/uploads/2020/01/vistoso-board.png
END:VEVENT
BEGIN:VEVENT
DTSTART;TZID=America/Phoenix:20250806T160000
DTEND;TZID=America/Phoenix:20250806T170000
DTSTAMP:20260423T151200
CREATED:20241204T214130Z
LAST-MODIFIED:20241204T214248Z
UID:10000686-1754496000-1754499600@ranchovistosohoa.com
SUMMARY:Governing Documents Committee
DESCRIPTION:Governing Documents Committee\nFirst Wednesday of the Month at 4:00 PM\nVia Zoom Videoconference – https://us02web.zoom.us/j/8445866556\nMeeting ID: 844 586 6556 \nclick HERE to view the agenda\,
URL:https://ranchovistosohoa.com/event/governing-documents-committee-6-3/2025-08-06/
LOCATION:Audio Visual Conference via Zoom
CATEGORIES:Governing Docs Committee
ATTACH;FMTTYPE=image/jpeg:https://ranchovistosohoa.com/wp-content/uploads/2021/12/qtq80-1utPiA-e1640203008532.jpeg
END:VEVENT
BEGIN:VEVENT
DTSTART;TZID=America/Phoenix:20250807T151500
DTEND;TZID=America/Phoenix:20250807T161500
DTSTAMP:20260423T151200
CREATED:20241109T002931Z
LAST-MODIFIED:20241109T003009Z
UID:10001314-1754579700-1754583300@ranchovistosohoa.com
SUMMARY:Parks & Landscape Committee
DESCRIPTION:Parks & Landscape Committee\nParks & Landscape Committee\nFirst Thursday of the Month at 3:15 PM\nVia Zoom Videoconference – https://us02web.zoom.us/j/8445866556\nMeeting ID: 844 586 6556
URL:https://ranchovistosohoa.com/event/parks-landscape-committee-6/2025-08-07/
LOCATION:Audio Visual Conference via Zoom
CATEGORIES:Parks and Landscape Committee
ATTACH;FMTTYPE=image/jpeg:https://ranchovistosohoa.com/wp-content/uploads/2022/07/PV-Picture.jpg
END:VEVENT
BEGIN:VEVENT
DTSTART;TZID=America/Phoenix:20250812T153000
DTEND;TZID=America/Phoenix:20250812T170000
DTSTAMP:20260423T151200
CREATED:20240802T165420Z
LAST-MODIFIED:20240802T165421Z
UID:10001000-1755012600-1755018000@ranchovistosohoa.com
SUMMARY:Compliance Committee
DESCRIPTION:Compliance Committee\nSecond Tuesday of the Month at 3:30 PM\nVia Zoom Videoconference – https://us02web.zoom.us/j/8445866556\nMeeting ID: 844 586 6556
URL:https://ranchovistosohoa.com/event/compliance-committee-3-2-2/2025-08-12/
LOCATION:Audio Visual Conference via Zoom
CATEGORIES:Compliance Committee
ATTACH;FMTTYPE=image/jpeg:https://ranchovistosohoa.com/wp-content/uploads/2021/12/qtq80-UqgOPw-e1640209658158.jpeg
END:VEVENT
BEGIN:VEVENT
DTSTART;TZID=America/Phoenix:20250813T150000
DTEND;TZID=America/Phoenix:20250813T160000
DTSTAMP:20260423T151200
CREATED:20240911T234458Z
LAST-MODIFIED:20240911T234459Z
UID:10000759-1755097200-1755100800@ranchovistosohoa.com
SUMMARY:Architectural and Landscaping Review Committee
DESCRIPTION:ALRC Meeting Second Wednesday of the Month at 3:00 PM \nVia Zoom Videoconference \nhttps://us02web.zoom.us/j/8445866556 Meeting ID: 844 586 6556
URL:https://ranchovistosohoa.com/event/architectural-and-landscaping-review-committee-2-2/2025-08-13/
LOCATION:Audio Visual Conference via Zoom
CATEGORIES:ALRC
ATTACH;FMTTYPE=image/jpeg:https://ranchovistosohoa.com/wp-content/uploads/2021/12/qtq80-MmDIyT-e1640202501904.jpeg
END:VEVENT
BEGIN:VEVENT
DTSTART;TZID=America/Phoenix:20250814T150000
DTEND;TZID=America/Phoenix:20250814T160000
DTSTAMP:20260423T151200
CREATED:20241108T234658Z
LAST-MODIFIED:20251208T170903Z
UID:10001248-1755183600-1755187200@ranchovistosohoa.com
SUMMARY:Communications Committee
DESCRIPTION:Communications Committee\nSecond Thursday of the Month at 3:00 PM\nVia Zoom Videoconference – https://us02web.zoom.us/j/8445866556\nMeeting ID: 844 586 6556
URL:https://ranchovistosohoa.com/event/communications-committee-2-2-2/2025-08-14/
LOCATION:Audio Visual Conference via Zoom
CATEGORIES:Communication Committee
ATTACH;FMTTYPE=image/png:https://ranchovistosohoa.com/wp-content/uploads/2022/05/Newsletter-Header.png
END:VEVENT
BEGIN:VEVENT
DTSTART;TZID=America/Phoenix:20250819T150000
DTEND;TZID=America/Phoenix:20250819T160000
DTSTAMP:20260423T151200
CREATED:20250314T174457Z
LAST-MODIFIED:20260403T174532Z
UID:10001236-1755615600-1755619200@ranchovistosohoa.com
SUMMARY:Finance Committee
DESCRIPTION:Finance Committee Meeting \nThird Tuesday of the Month at 3:00 PM \nVia Zoom Videoconference –  https://us02web.zoom.us/j/8445866556 \nMeeting ID: 844 586 6556
URL:https://ranchovistosohoa.com/event/finance-committee-6-2-3-2/2025-08-19/
LOCATION:Audio Visual Conference via Zoom
CATEGORIES:Finance Committee
ATTACH;FMTTYPE=image/jpeg:https://ranchovistosohoa.com/wp-content/uploads/2020/10/qtq80-Pr2EvZ.jpeg
END:VEVENT
BEGIN:VEVENT
DTSTART;TZID=America/Phoenix:20250827T150000
DTEND;TZID=America/Phoenix:20250827T160000
DTSTAMP:20260423T151200
CREATED:20250308T173840Z
LAST-MODIFIED:20250308T173841Z
UID:10001367-1756306800-1756310400@ranchovistosohoa.com
SUMMARY:Board of Directors Executive Session – Closed Meeting
DESCRIPTION:VCA Board of Directors (Executive Session) – Closed Meeting\n\nMeeting Schedule – 3:00PM\n  \nThis meeting is to discuss items pertaining to ARS 33- 1804 A. paragraph 1\, 3\, 4 & 5. (Closed Meeting)  \n33-1804. Open meetings; exceptions – https://www.azleg.gov/ars/33/01804.htm
URL:https://ranchovistosohoa.com/event/board-of-directors-executive-session-closed-meeting-9-2-2/2025-08-27/
LOCATION:Audio Visual Conference via Zoom
CATEGORIES:Board Meeting - Executive Session
ATTACH;FMTTYPE=image/png:https://ranchovistosohoa.com/wp-content/uploads/2020/01/vistoso-board.png
END:VEVENT
BEGIN:VEVENT
DTSTART;TZID=America/Phoenix:20250828T173000
DTEND;TZID=America/Phoenix:20250828T190000
DTSTAMP:20260423T151200
CREATED:20250822T162614Z
LAST-MODIFIED:20250822T162615Z
UID:10001285-1756402200-1756407600@ranchovistosohoa.com
SUMMARY:Board of Directors - General Session
DESCRIPTION:Vistoso Community Association Board of Directors Monthly (General Session)\nMeeting Schedule – 5:30PM\nMeeting platform via Zoom Video & Audio Conferencing\n  \nClick HERE to download the board meeting packet and agenda. \nHomeowners are encouraged to join Zoom Meeting at \nhttps://us02web.zoom.us/j/8445866556 \nMeeting ID: 844 586 6556 \nQuestions can also be submitted in advance at AskVCA@ranchovistosohoa.com
URL:https://ranchovistosohoa.com/event/board-of-directors-general-session-9-13-6/
LOCATION:Audio Visual Conference via Zoom
CATEGORIES:Board Meeting
ATTACH;FMTTYPE=image/png:https://ranchovistosohoa.com/wp-content/uploads/2020/01/vistoso-board.png
END:VEVENT
BEGIN:VEVENT
DTSTART;VALUE=DATE:20250901
DTEND;VALUE=DATE:20250902
DTSTAMP:20260423T151200
CREATED:20230113T233116Z
LAST-MODIFIED:20231009T235541Z
UID:10000536-1756684800-1756771199@ranchovistosohoa.com
SUMMARY:VCA Office Closed - Labor Day
DESCRIPTION:
URL:https://ranchovistosohoa.com/event/vca-office-closed-labor-day-3/2025-09-01/
LOCATION:Vistoso Association Office\, 1171 E Rancho Vistoso Blvd - Suite #111\, Oro Valley\, AZ\, 85755\, United States
CATEGORIES:Holiday - Office Closed
ATTACH;FMTTYPE=image/jpeg:https://ranchovistosohoa.com/wp-content/uploads/2021/12/christmas-christmas-tree-presents-1869902-e1640881249148.jpg
GEO:32.456496;-110.98357
X-APPLE-STRUCTURED-LOCATION;VALUE=URI;X-ADDRESS=Vistoso Association Office 1171 E Rancho Vistoso Blvd - Suite #111 Oro Valley AZ 85755 United States;X-APPLE-RADIUS=500;X-TITLE=1171 E Rancho Vistoso Blvd - Suite #111:geo:-110.98357,32.456496
END:VEVENT
BEGIN:VEVENT
DTSTART;TZID=America/Phoenix:20250903T160000
DTEND;TZID=America/Phoenix:20250903T170000
DTSTAMP:20260423T151200
CREATED:20241204T214130Z
LAST-MODIFIED:20241204T214248Z
UID:10000687-1756915200-1756918800@ranchovistosohoa.com
SUMMARY:Governing Documents Committee
DESCRIPTION:Governing Documents Committee\nFirst Wednesday of the Month at 4:00 PM\nVia Zoom Videoconference – https://us02web.zoom.us/j/8445866556\nMeeting ID: 844 586 6556 \nclick HERE to view the agenda\,
URL:https://ranchovistosohoa.com/event/governing-documents-committee-6-3/2025-09-03/
LOCATION:Audio Visual Conference via Zoom
CATEGORIES:Governing Docs Committee
ATTACH;FMTTYPE=image/jpeg:https://ranchovistosohoa.com/wp-content/uploads/2021/12/qtq80-1utPiA-e1640203008532.jpeg
END:VEVENT
BEGIN:VEVENT
DTSTART;TZID=America/Phoenix:20250904T151500
DTEND;TZID=America/Phoenix:20250904T161500
DTSTAMP:20260423T151200
CREATED:20241109T002931Z
LAST-MODIFIED:20241109T003009Z
UID:10001315-1756998900-1757002500@ranchovistosohoa.com
SUMMARY:Parks & Landscape Committee
DESCRIPTION:Parks & Landscape Committee\nParks & Landscape Committee\nFirst Thursday of the Month at 3:15 PM\nVia Zoom Videoconference – https://us02web.zoom.us/j/8445866556\nMeeting ID: 844 586 6556
URL:https://ranchovistosohoa.com/event/parks-landscape-committee-6/2025-09-04/
LOCATION:Audio Visual Conference via Zoom
CATEGORIES:Parks and Landscape Committee
ATTACH;FMTTYPE=image/jpeg:https://ranchovistosohoa.com/wp-content/uploads/2022/07/PV-Picture.jpg
END:VEVENT
BEGIN:VEVENT
DTSTART;TZID=America/Phoenix:20250909T153000
DTEND;TZID=America/Phoenix:20250909T170000
DTSTAMP:20260423T151200
CREATED:20240802T165420Z
LAST-MODIFIED:20240802T165421Z
UID:10001001-1757431800-1757437200@ranchovistosohoa.com
SUMMARY:Compliance Committee
DESCRIPTION:Compliance Committee\nSecond Tuesday of the Month at 3:30 PM\nVia Zoom Videoconference – https://us02web.zoom.us/j/8445866556\nMeeting ID: 844 586 6556
URL:https://ranchovistosohoa.com/event/compliance-committee-3-2-2/2025-09-09/
LOCATION:Audio Visual Conference via Zoom
CATEGORIES:Compliance Committee
ATTACH;FMTTYPE=image/jpeg:https://ranchovistosohoa.com/wp-content/uploads/2021/12/qtq80-UqgOPw-e1640209658158.jpeg
END:VEVENT
BEGIN:VEVENT
DTSTART;TZID=America/Phoenix:20250910T150000
DTEND;TZID=America/Phoenix:20250910T160000
DTSTAMP:20260423T151200
CREATED:20240911T234458Z
LAST-MODIFIED:20240911T234459Z
UID:10000760-1757516400-1757520000@ranchovistosohoa.com
SUMMARY:Architectural and Landscaping Review Committee
DESCRIPTION:ALRC Meeting Second Wednesday of the Month at 3:00 PM \nVia Zoom Videoconference \nhttps://us02web.zoom.us/j/8445866556 Meeting ID: 844 586 6556
URL:https://ranchovistosohoa.com/event/architectural-and-landscaping-review-committee-2-2/2025-09-10/
LOCATION:Audio Visual Conference via Zoom
CATEGORIES:ALRC
ATTACH;FMTTYPE=image/jpeg:https://ranchovistosohoa.com/wp-content/uploads/2021/12/qtq80-MmDIyT-e1640202501904.jpeg
END:VEVENT
BEGIN:VEVENT
DTSTART;TZID=America/Phoenix:20250911T150000
DTEND;TZID=America/Phoenix:20250911T160000
DTSTAMP:20260423T151200
CREATED:20241108T234658Z
LAST-MODIFIED:20251208T170903Z
UID:10001249-1757602800-1757606400@ranchovistosohoa.com
SUMMARY:Communications Committee
DESCRIPTION:Communications Committee\nSecond Thursday of the Month at 3:00 PM\nVia Zoom Videoconference – https://us02web.zoom.us/j/8445866556\nMeeting ID: 844 586 6556
URL:https://ranchovistosohoa.com/event/communications-committee-2-2-2/2025-09-11/
LOCATION:Audio Visual Conference via Zoom
CATEGORIES:Communication Committee
ATTACH;FMTTYPE=image/png:https://ranchovistosohoa.com/wp-content/uploads/2022/05/Newsletter-Header.png
END:VEVENT
BEGIN:VEVENT
DTSTART;TZID=America/Phoenix:20250916T150000
DTEND;TZID=America/Phoenix:20250916T160000
DTSTAMP:20260423T151200
CREATED:20250314T174457Z
LAST-MODIFIED:20260403T174532Z
UID:10001237-1758034800-1758038400@ranchovistosohoa.com
SUMMARY:Finance Committee
DESCRIPTION:Finance Committee Meeting \nThird Tuesday of the Month at 3:00 PM \nVia Zoom Videoconference –  https://us02web.zoom.us/j/8445866556 \nMeeting ID: 844 586 6556
URL:https://ranchovistosohoa.com/event/finance-committee-6-2-3-2/2025-09-16/
LOCATION:Audio Visual Conference via Zoom
CATEGORIES:Finance Committee
ATTACH;FMTTYPE=image/jpeg:https://ranchovistosohoa.com/wp-content/uploads/2020/10/qtq80-Pr2EvZ.jpeg
END:VEVENT
BEGIN:VEVENT
DTSTART;TZID=America/Phoenix:20250924T150000
DTEND;TZID=America/Phoenix:20250924T160000
DTSTAMP:20260423T151200
CREATED:20250308T173840Z
LAST-MODIFIED:20250308T173841Z
UID:10001368-1758726000-1758729600@ranchovistosohoa.com
SUMMARY:Board of Directors Executive Session – Closed Meeting
DESCRIPTION:VCA Board of Directors (Executive Session) – Closed Meeting\n\nMeeting Schedule – 3:00PM\n  \nThis meeting is to discuss items pertaining to ARS 33- 1804 A. paragraph 1\, 3\, 4 & 5. (Closed Meeting)  \n33-1804. Open meetings; exceptions – https://www.azleg.gov/ars/33/01804.htm
URL:https://ranchovistosohoa.com/event/board-of-directors-executive-session-closed-meeting-9-2-2/2025-09-24/
LOCATION:Audio Visual Conference via Zoom
CATEGORIES:Board Meeting - Executive Session
ATTACH;FMTTYPE=image/png:https://ranchovistosohoa.com/wp-content/uploads/2020/01/vistoso-board.png
END:VEVENT
BEGIN:VEVENT
DTSTART;TZID=America/Phoenix:20250925T173000
DTEND;TZID=America/Phoenix:20250925T190000
DTSTAMP:20260423T151200
CREATED:20250919T182849Z
LAST-MODIFIED:20250919T182850Z
UID:10001286-1758821400-1758826800@ranchovistosohoa.com
SUMMARY:Board of Directors - General Session
DESCRIPTION:Vistoso Community Association Board of Directors Monthly (General Session)\nMeeting Schedule – 5:30PM\nMeeting platform via Zoom Video & Audio Conferencing\n  \nClick HERE to download the agenda and meeting packet. \nHomeowners are encouraged to join Zoom Meeting at \nhttps://us02web.zoom.us/j/8445866556 \nMeeting ID: 844 586 6556 \nQuestions can also be submitted in advance at AskVCA@ranchovistosohoa.com
URL:https://ranchovistosohoa.com/event/board-of-directors-general-session-9-13-7/
LOCATION:Audio Visual Conference via Zoom
CATEGORIES:Board Meeting
ATTACH;FMTTYPE=image/png:https://ranchovistosohoa.com/wp-content/uploads/2020/01/vistoso-board.png
END:VEVENT
BEGIN:VEVENT
DTSTART;TZID=America/Phoenix:20251001T160000
DTEND;TZID=America/Phoenix:20251001T170000
DTSTAMP:20260423T151200
CREATED:20241204T214130Z
LAST-MODIFIED:20241204T214248Z
UID:10000688-1759334400-1759338000@ranchovistosohoa.com
SUMMARY:Governing Documents Committee
DESCRIPTION:Governing Documents Committee\nFirst Wednesday of the Month at 4:00 PM\nVia Zoom Videoconference – https://us02web.zoom.us/j/8445866556\nMeeting ID: 844 586 6556 \nclick HERE to view the agenda\,
URL:https://ranchovistosohoa.com/event/governing-documents-committee-6-3/2025-10-01/
LOCATION:Audio Visual Conference via Zoom
CATEGORIES:Governing Docs Committee
ATTACH;FMTTYPE=image/jpeg:https://ranchovistosohoa.com/wp-content/uploads/2021/12/qtq80-1utPiA-e1640203008532.jpeg
END:VEVENT
BEGIN:VEVENT
DTSTART;TZID=America/Phoenix:20251002T151500
DTEND;TZID=America/Phoenix:20251002T161500
DTSTAMP:20260423T151200
CREATED:20241109T002931Z
LAST-MODIFIED:20241109T003009Z
UID:10001316-1759418100-1759421700@ranchovistosohoa.com
SUMMARY:Parks & Landscape Committee
DESCRIPTION:Parks & Landscape Committee\nParks & Landscape Committee\nFirst Thursday of the Month at 3:15 PM\nVia Zoom Videoconference – https://us02web.zoom.us/j/8445866556\nMeeting ID: 844 586 6556
URL:https://ranchovistosohoa.com/event/parks-landscape-committee-6/2025-10-02/
LOCATION:Audio Visual Conference via Zoom
CATEGORIES:Parks and Landscape Committee
ATTACH;FMTTYPE=image/jpeg:https://ranchovistosohoa.com/wp-content/uploads/2022/07/PV-Picture.jpg
END:VEVENT
BEGIN:VEVENT
DTSTART;TZID=America/Phoenix:20251007T150000
DTEND;TZID=America/Phoenix:20251007T160000
DTSTAMP:20260423T151200
CREATED:20250929T182533Z
LAST-MODIFIED:20250929T182533Z
UID:10001426-1759849200-1759852800@ranchovistosohoa.com
SUMMARY:Board of Directors - Budget Discussion
DESCRIPTION:Vistoso Community Association Board of Directors – Budget Discussion\nMeeting Schedule – 5:30PM\nMeeting platform via Zoom Video & Audio Conferencing\n  \nA Board Meeting is scheduled on Tuesday\, October 7\, 2025\, at 3:00 PM to discuss the proposed 2026 budgets for Siena and the VCA. Homeowners are encouraged to attend. \nThe agenda is attached for your reference. Limited seating for this meeting is available at the site office located at 1171 E Rancho Vistoso Blvd.\, Suite 111. Please contact our office before time if you are intending to participate in person. The zoom meeting link is provided below. \nClick HERE to download the agenda and meeting packet. \nHomeowners are encouraged to join Zoom Meeting at \nhttps://us02web.zoom.us/j/8445866556 \nMeeting ID: 844 586 6556 \nQuestions can also be submitted in advance at AskVCA@ranchovistosohoa.com
URL:https://ranchovistosohoa.com/event/board-of-directors-budget-discussion/
LOCATION:Audio Visual Conference via Zoom
CATEGORIES:Board Meeting
ATTACH;FMTTYPE=image/png:https://ranchovistosohoa.com/wp-content/uploads/2020/01/vistoso-board.png
END:VEVENT
BEGIN:VEVENT
DTSTART;TZID=America/Phoenix:20251008T150000
DTEND;TZID=America/Phoenix:20251008T160000
DTSTAMP:20260423T151200
CREATED:20240911T234458Z
LAST-MODIFIED:20240911T234459Z
UID:10000761-1759935600-1759939200@ranchovistosohoa.com
SUMMARY:Architectural and Landscaping Review Committee
DESCRIPTION:ALRC Meeting Second Wednesday of the Month at 3:00 PM \nVia Zoom Videoconference \nhttps://us02web.zoom.us/j/8445866556 Meeting ID: 844 586 6556
URL:https://ranchovistosohoa.com/event/architectural-and-landscaping-review-committee-2-2/2025-10-08/
LOCATION:Audio Visual Conference via Zoom
CATEGORIES:ALRC
ATTACH;FMTTYPE=image/jpeg:https://ranchovistosohoa.com/wp-content/uploads/2021/12/qtq80-MmDIyT-e1640202501904.jpeg
END:VEVENT
BEGIN:VEVENT
DTSTART;TZID=America/Phoenix:20251009T150000
DTEND;TZID=America/Phoenix:20251009T160000
DTSTAMP:20260423T151200
CREATED:20241108T234658Z
LAST-MODIFIED:20251208T170903Z
UID:10001250-1760022000-1760025600@ranchovistosohoa.com
SUMMARY:Communications Committee
DESCRIPTION:Communications Committee\nSecond Thursday of the Month at 3:00 PM\nVia Zoom Videoconference – https://us02web.zoom.us/j/8445866556\nMeeting ID: 844 586 6556
URL:https://ranchovistosohoa.com/event/communications-committee-2-2-2/2025-10-09/
LOCATION:Audio Visual Conference via Zoom
CATEGORIES:Communication Committee
ATTACH;FMTTYPE=image/png:https://ranchovistosohoa.com/wp-content/uploads/2022/05/Newsletter-Header.png
END:VEVENT
END:VCALENDAR