BEGIN:VCALENDAR
VERSION:2.0
PRODID:-//Welcome to Rancho Vistoso - ECPv6.15.20//NONSGML v1.0//EN
CALSCALE:GREGORIAN
METHOD:PUBLISH
X-ORIGINAL-URL:https://ranchovistosohoa.com
X-WR-CALDESC:Events for Welcome to Rancho Vistoso
REFRESH-INTERVAL;VALUE=DURATION:PT1H
X-Robots-Tag:noindex
X-PUBLISHED-TTL:PT1H
BEGIN:VTIMEZONE
TZID:America/Phoenix
BEGIN:STANDARD
TZOFFSETFROM:-0700
TZOFFSETTO:-0700
TZNAME:MST
DTSTART:20250101T000000
END:STANDARD
END:VTIMEZONE
BEGIN:VEVENT
DTSTART;TZID=America/Phoenix:20261111T150000
DTEND;TZID=America/Phoenix:20261111T160000
DTSTAMP:20260423T035716
CREATED:20240911T234458Z
LAST-MODIFIED:20240911T234459Z
UID:10000774-1794409200-1794412800@ranchovistosohoa.com
SUMMARY:Architectural and Landscaping Review Committee
DESCRIPTION:ALRC Meeting Second Wednesday of the Month at 3:00 PM \nVia Zoom Videoconference \nhttps://us02web.zoom.us/j/8445866556 Meeting ID: 844 586 6556
URL:https://ranchovistosohoa.com/event/architectural-and-landscaping-review-committee-2-2/2026-11-11/
LOCATION:Audio Visual Conference via Zoom
CATEGORIES:ALRC
ATTACH;FMTTYPE=image/jpeg:https://ranchovistosohoa.com/wp-content/uploads/2021/12/qtq80-MmDIyT-e1640202501904.jpeg
END:VEVENT
BEGIN:VEVENT
DTSTART;TZID=America/Phoenix:20261112T150000
DTEND;TZID=America/Phoenix:20261112T160000
DTSTAMP:20260423T035716
CREATED:20241108T234658Z
LAST-MODIFIED:20251208T170903Z
UID:10001531-1794495600-1794499200@ranchovistosohoa.com
SUMMARY:Communications Committee
DESCRIPTION:Communications Committee\nSecond Thursday of the Month at 3:00 PM\nVia Zoom Videoconference – https://us02web.zoom.us/j/8445866556\nMeeting ID: 844 586 6556
URL:https://ranchovistosohoa.com/event/communications-committee-2-2-2/2026-11-12/
LOCATION:Audio Visual Conference via Zoom
CATEGORIES:Communication Committee
ATTACH;FMTTYPE=image/png:https://ranchovistosohoa.com/wp-content/uploads/2022/05/Newsletter-Header.png
END:VEVENT
BEGIN:VEVENT
DTSTART;TZID=America/Phoenix:20261117T150000
DTEND;TZID=America/Phoenix:20261117T160000
DTSTAMP:20260423T035716
CREATED:20250314T174457Z
LAST-MODIFIED:20260403T174532Z
UID:10001735-1794927600-1794931200@ranchovistosohoa.com
SUMMARY:Finance Committee
DESCRIPTION:Finance Committee Meeting \nThird Tuesday of the Month at 3:00 PM \nVia Zoom Videoconference –  https://us02web.zoom.us/j/8445866556 \nMeeting ID: 844 586 6556
URL:https://ranchovistosohoa.com/event/finance-committee-6-2-3-2/2026-11-17/
LOCATION:Audio Visual Conference via Zoom
CATEGORIES:Finance Committee
ATTACH;FMTTYPE=image/jpeg:https://ranchovistosohoa.com/wp-content/uploads/2020/10/qtq80-Pr2EvZ.jpeg
END:VEVENT
BEGIN:VEVENT
DTSTART;TZID=America/Phoenix:20261125T150000
DTEND;TZID=America/Phoenix:20261125T160000
DTSTAMP:20260423T035716
CREATED:20260403T173827Z
LAST-MODIFIED:20260416T205126Z
UID:10001377-1795618800-1795622400@ranchovistosohoa.com
SUMMARY:Board of Directors Executive Session – Closed Meeting
DESCRIPTION:VCA Board of Directors (Executive Session) – Closed Meeting\n\nMeeting Schedule – 3:00PM\n  \nThis meeting is to discuss items pertaining to ARS 33- 1804 A. paragraph 1\, 3\, 4 & 5. (Closed Meeting)  \n33-1804. Open meetings; exceptions – https://www.azleg.gov/ars/33/01804.htm
URL:https://ranchovistosohoa.com/event/board-of-directors-executive-session-closed-meeting-9-2-2-3-2-2/2026-11-25/
LOCATION:Audio Visual Conference via Zoom
CATEGORIES:Board Meeting - Executive Session
ATTACH;FMTTYPE=image/png:https://ranchovistosohoa.com/wp-content/uploads/2020/01/vistoso-board.png
END:VEVENT
BEGIN:VEVENT
DTSTART;VALUE=DATE:20261126
DTEND;VALUE=DATE:20261128
DTSTAMP:20260423T035716
CREATED:20251126T183707Z
LAST-MODIFIED:20251126T183708Z
UID:10000519-1795651200-1795823999@ranchovistosohoa.com
SUMMARY:VCA Office Closed - Thanksgiving Day
DESCRIPTION:
URL:https://ranchovistosohoa.com/event/vca-office-closed-thanksgiving-day-2-2/2026-11-26/
LOCATION:Vistoso Association Office\, 1171 E Rancho Vistoso Blvd - Suite #111\, Oro Valley\, AZ\, 85755\, United States
CATEGORIES:Holiday - Office Closed
ATTACH;FMTTYPE=image/jpeg:https://ranchovistosohoa.com/wp-content/uploads/2021/12/christmas-christmas-tree-presents-1869902-e1640881249148.jpg
GEO:32.456496;-110.98357
X-APPLE-STRUCTURED-LOCATION;VALUE=URI;X-ADDRESS=Vistoso Association Office 1171 E Rancho Vistoso Blvd - Suite #111 Oro Valley AZ 85755 United States;X-APPLE-RADIUS=500;X-TITLE=1171 E Rancho Vistoso Blvd - Suite #111:geo:-110.98357,32.456496
END:VEVENT
BEGIN:VEVENT
DTSTART;TZID=America/Phoenix:20261126T173000
DTEND;TZID=America/Phoenix:20261126T183000
DTSTAMP:20260423T035716
CREATED:20260320T223846Z
LAST-MODIFIED:20260403T173935Z
UID:10001605-1795714200-1795717800@ranchovistosohoa.com
SUMMARY:Board of Directors - General Session
DESCRIPTION:Vistoso Community Association Board of Directors Monthly (General Session)\nMeeting Schedule – 5:30PM\nMeeting platform via Zoom Video & Audio Conferencing\n  \nHomeowners are encouraged to join Zoom Meeting at \nhttps://us02web.zoom.us/j/8445866556 \nMeeting ID: 844 586 6556 \nQuestions can also be submitted in advance at AskVCA@ranchovistosohoa.com
URL:https://ranchovistosohoa.com/event/board-of-directors-general-session-2/2026-11-26/
LOCATION:Audio Visual Conference via Zoom
CATEGORIES:Board Meeting
ATTACH;FMTTYPE=image/png:https://ranchovistosohoa.com/wp-content/uploads/2020/01/vistoso-board.png
END:VEVENT
BEGIN:VEVENT
DTSTART;TZID=America/Phoenix:20261202T160000
DTEND;TZID=America/Phoenix:20261202T170000
DTSTAMP:20260423T035716
CREATED:20260203T224914Z
LAST-MODIFIED:20260203T225229Z
UID:10000702-1796227200-1796230800@ranchovistosohoa.com
SUMMARY:Governing Documents Committee
DESCRIPTION:Governing Documents Committee\nFirst Wednesday of the Month at 4:00 PM\nVia Zoom Videoconference – https://us02web.zoom.us/j/8445866556\nMeeting ID: 844 586 6556 \nclick HERE to view the agenda\,
URL:https://ranchovistosohoa.com/event/governing-documents-committee-6-3-2-2/2026-12-02/
LOCATION:Audio Visual Conference via Zoom
CATEGORIES:Governing Docs Committee
ATTACH;FMTTYPE=image/jpeg:https://ranchovistosohoa.com/wp-content/uploads/2021/12/qtq80-1utPiA-e1640203008532.jpeg
END:VEVENT
BEGIN:VEVENT
DTSTART;TZID=America/Phoenix:20261203T151500
DTEND;TZID=America/Phoenix:20261203T161500
DTSTAMP:20260423T035716
CREATED:20251208T170558Z
LAST-MODIFIED:20251208T170558Z
UID:10001471-1796310900-1796314500@ranchovistosohoa.com
SUMMARY:Parks & Landscape Committee
DESCRIPTION:Parks & Landscape Committee\nParks & Landscape Committee\nFirst Thursday of the Month at 3:15 PM\nVia Zoom Videoconference – https://us02web.zoom.us/j/8445866556\nMeeting ID: 844 586 6556
URL:https://ranchovistosohoa.com/event/parks-landscape-committee-8/2026-12-03/
LOCATION:Audio Visual Conference via Zoom
CATEGORIES:Parks and Landscape Committee
ATTACH;FMTTYPE=image/jpeg:https://ranchovistosohoa.com/wp-content/uploads/2022/07/PV-Picture.jpg
END:VEVENT
BEGIN:VEVENT
DTSTART;TZID=America/Phoenix:20261208T153000
DTEND;TZID=America/Phoenix:20261208T170000
DTSTAMP:20260423T035716
CREATED:20240802T165420Z
LAST-MODIFIED:20240802T165421Z
UID:10001016-1796743800-1796749200@ranchovistosohoa.com
SUMMARY:Compliance Committee
DESCRIPTION:Compliance Committee\nSecond Tuesday of the Month at 3:30 PM\nVia Zoom Videoconference – https://us02web.zoom.us/j/8445866556\nMeeting ID: 844 586 6556
URL:https://ranchovistosohoa.com/event/compliance-committee-3-2-2/2026-12-08/
LOCATION:Audio Visual Conference via Zoom
CATEGORIES:Compliance Committee
ATTACH;FMTTYPE=image/jpeg:https://ranchovistosohoa.com/wp-content/uploads/2021/12/qtq80-UqgOPw-e1640209658158.jpeg
END:VEVENT
BEGIN:VEVENT
DTSTART;TZID=America/Phoenix:20261209T150000
DTEND;TZID=America/Phoenix:20261209T160000
DTSTAMP:20260423T035716
CREATED:20240911T234458Z
LAST-MODIFIED:20240911T234459Z
UID:10000775-1796828400-1796832000@ranchovistosohoa.com
SUMMARY:Architectural and Landscaping Review Committee
DESCRIPTION:ALRC Meeting Second Wednesday of the Month at 3:00 PM \nVia Zoom Videoconference \nhttps://us02web.zoom.us/j/8445866556 Meeting ID: 844 586 6556
URL:https://ranchovistosohoa.com/event/architectural-and-landscaping-review-committee-2-2/2026-12-09/
LOCATION:Audio Visual Conference via Zoom
CATEGORIES:ALRC
ATTACH;FMTTYPE=image/jpeg:https://ranchovistosohoa.com/wp-content/uploads/2021/12/qtq80-MmDIyT-e1640202501904.jpeg
END:VEVENT
BEGIN:VEVENT
DTSTART;TZID=America/Phoenix:20261210T150000
DTEND;TZID=America/Phoenix:20261210T160000
DTSTAMP:20260423T035716
CREATED:20241108T234658Z
LAST-MODIFIED:20251208T170903Z
UID:10001532-1796914800-1796918400@ranchovistosohoa.com
SUMMARY:Communications Committee
DESCRIPTION:Communications Committee\nSecond Thursday of the Month at 3:00 PM\nVia Zoom Videoconference – https://us02web.zoom.us/j/8445866556\nMeeting ID: 844 586 6556
URL:https://ranchovistosohoa.com/event/communications-committee-2-2-2/2026-12-10/
LOCATION:Audio Visual Conference via Zoom
CATEGORIES:Communication Committee
ATTACH;FMTTYPE=image/png:https://ranchovistosohoa.com/wp-content/uploads/2022/05/Newsletter-Header.png
END:VEVENT
BEGIN:VEVENT
DTSTART;TZID=America/Phoenix:20261215T150000
DTEND;TZID=America/Phoenix:20261215T160000
DTSTAMP:20260423T035716
CREATED:20250314T174457Z
LAST-MODIFIED:20260403T174532Z
UID:10001736-1797346800-1797350400@ranchovistosohoa.com
SUMMARY:Finance Committee
DESCRIPTION:Finance Committee Meeting \nThird Tuesday of the Month at 3:00 PM \nVia Zoom Videoconference –  https://us02web.zoom.us/j/8445866556 \nMeeting ID: 844 586 6556
URL:https://ranchovistosohoa.com/event/finance-committee-6-2-3-2/2026-12-15/
LOCATION:Audio Visual Conference via Zoom
CATEGORIES:Finance Committee
ATTACH;FMTTYPE=image/jpeg:https://ranchovistosohoa.com/wp-content/uploads/2020/10/qtq80-Pr2EvZ.jpeg
END:VEVENT
BEGIN:VEVENT
DTSTART;VALUE=DATE:20261224
DTEND;VALUE=DATE:20261225
DTSTAMP:20260423T035716
CREATED:20241118T165257Z
LAST-MODIFIED:20241118T165257Z
UID:10001323-1798070400-1798156799@ranchovistosohoa.com
SUMMARY:VCA Office Closed - 12/24
DESCRIPTION:
URL:https://ranchovistosohoa.com/event/vca-office-closed-12-24/2026-12-24/
LOCATION:Audio Visual Conference via Zoom
CATEGORIES:Holiday - Office Closed
END:VEVENT
BEGIN:VEVENT
DTSTART;VALUE=DATE:20261225
DTEND;VALUE=DATE:20261226
DTSTAMP:20260423T035716
CREATED:20230114T000504Z
LAST-MODIFIED:20231009T234552Z
UID:10000515-1798156800-1798243199@ranchovistosohoa.com
SUMMARY:VCA Office Closed - Christmas Day
DESCRIPTION:
URL:https://ranchovistosohoa.com/event/vca-office-closed-christmas-day/2026-12-25/
LOCATION:Vistoso Association Office\, 1171 E Rancho Vistoso Blvd - Suite #111\, Oro Valley\, AZ\, 85755\, United States
CATEGORIES:Holiday - Office Closed
ATTACH;FMTTYPE=image/jpeg:https://ranchovistosohoa.com/wp-content/uploads/2021/12/christmas-christmas-tree-presents-1869902-e1640881249148.jpg
GEO:32.456496;-110.98357
X-APPLE-STRUCTURED-LOCATION;VALUE=URI;X-ADDRESS=Vistoso Association Office 1171 E Rancho Vistoso Blvd - Suite #111 Oro Valley AZ 85755 United States;X-APPLE-RADIUS=500;X-TITLE=1171 E Rancho Vistoso Blvd - Suite #111:geo:-110.98357,32.456496
END:VEVENT
BEGIN:VEVENT
DTSTART;TZID=America/Phoenix:20261230T150000
DTEND;TZID=America/Phoenix:20261230T160000
DTSTAMP:20260423T035716
CREATED:20260403T173827Z
LAST-MODIFIED:20260416T205126Z
UID:10001682-1798642800-1798646400@ranchovistosohoa.com
SUMMARY:Board of Directors Executive Session – Closed Meeting
DESCRIPTION:VCA Board of Directors (Executive Session) – Closed Meeting\n\nMeeting Schedule – 3:00PM\n  \nThis meeting is to discuss items pertaining to ARS 33- 1804 A. paragraph 1\, 3\, 4 & 5. (Closed Meeting)  \n33-1804. Open meetings; exceptions – https://www.azleg.gov/ars/33/01804.htm
URL:https://ranchovistosohoa.com/event/board-of-directors-executive-session-closed-meeting-9-2-2-3-2-2/2026-12-30/
LOCATION:Audio Visual Conference via Zoom
CATEGORIES:Board Meeting - Executive Session
ATTACH;FMTTYPE=image/png:https://ranchovistosohoa.com/wp-content/uploads/2020/01/vistoso-board.png
END:VEVENT
BEGIN:VEVENT
DTSTART;VALUE=DATE:20261231
DTEND;VALUE=DATE:20270101
DTSTAMP:20260423T035716
CREATED:20241118T165357Z
LAST-MODIFIED:20241118T165357Z
UID:10001328-1798675200-1798761599@ranchovistosohoa.com
SUMMARY:VCA Office Closed - 12/31
DESCRIPTION:
URL:https://ranchovistosohoa.com/event/vca-office-closed-12-31/2026-12-31/
LOCATION:Audio Visual Conference via Zoom
CATEGORIES:Holiday - Office Closed
END:VEVENT
BEGIN:VEVENT
DTSTART;TZID=America/Phoenix:20261231T173000
DTEND;TZID=America/Phoenix:20261231T183000
DTSTAMP:20260423T035716
CREATED:20260320T223846Z
LAST-MODIFIED:20260403T173935Z
UID:10001704-1798738200-1798741800@ranchovistosohoa.com
SUMMARY:Board of Directors - General Session
DESCRIPTION:Vistoso Community Association Board of Directors Monthly (General Session)\nMeeting Schedule – 5:30PM\nMeeting platform via Zoom Video & Audio Conferencing\n  \nHomeowners are encouraged to join Zoom Meeting at \nhttps://us02web.zoom.us/j/8445866556 \nMeeting ID: 844 586 6556 \nQuestions can also be submitted in advance at AskVCA@ranchovistosohoa.com
URL:https://ranchovistosohoa.com/event/board-of-directors-general-session-2/2026-12-31/
LOCATION:Audio Visual Conference via Zoom
CATEGORIES:Board Meeting
ATTACH;FMTTYPE=image/png:https://ranchovistosohoa.com/wp-content/uploads/2020/01/vistoso-board.png
END:VEVENT
BEGIN:VEVENT
DTSTART;VALUE=DATE:20270101
DTEND;VALUE=DATE:20270102
DTSTAMP:20260423T035716
CREATED:20231202T020950Z
LAST-MODIFIED:20231202T020950Z
UID:10000563-1798761600-1798847999@ranchovistosohoa.com
SUMMARY:VCA Office Closed - New Years Holiday
DESCRIPTION:
URL:https://ranchovistosohoa.com/event/vca-office-closed-new-years-holiday/2027-01-01/
LOCATION:Vistoso Association Office\, 1171 E Rancho Vistoso Blvd - Suite #111\, Oro Valley\, AZ\, 85755\, United States
CATEGORIES:Holiday - Office Closed
ATTACH;FMTTYPE=image/jpeg:https://ranchovistosohoa.com/wp-content/uploads/2023/10/s-eve-pyrotechnics-574739.jpg
GEO:32.456496;-110.98357
X-APPLE-STRUCTURED-LOCATION;VALUE=URI;X-ADDRESS=Vistoso Association Office 1171 E Rancho Vistoso Blvd - Suite #111 Oro Valley AZ 85755 United States;X-APPLE-RADIUS=500;X-TITLE=1171 E Rancho Vistoso Blvd - Suite #111:geo:-110.98357,32.456496
END:VEVENT
BEGIN:VEVENT
DTSTART;TZID=America/Phoenix:20270106T160000
DTEND;TZID=America/Phoenix:20270106T170000
DTSTAMP:20260423T035716
CREATED:20260203T224914Z
LAST-MODIFIED:20260203T225229Z
UID:10000703-1799251200-1799254800@ranchovistosohoa.com
SUMMARY:Governing Documents Committee
DESCRIPTION:Governing Documents Committee\nFirst Wednesday of the Month at 4:00 PM\nVia Zoom Videoconference – https://us02web.zoom.us/j/8445866556\nMeeting ID: 844 586 6556 \nclick HERE to view the agenda\,
URL:https://ranchovistosohoa.com/event/governing-documents-committee-6-3-2-2/2027-01-06/
LOCATION:Audio Visual Conference via Zoom
CATEGORIES:Governing Docs Committee
ATTACH;FMTTYPE=image/jpeg:https://ranchovistosohoa.com/wp-content/uploads/2021/12/qtq80-1utPiA-e1640203008532.jpeg
END:VEVENT
BEGIN:VEVENT
DTSTART;TZID=America/Phoenix:20270107T151500
DTEND;TZID=America/Phoenix:20270107T161500
DTSTAMP:20260423T035716
CREATED:20251208T170558Z
LAST-MODIFIED:20251208T170558Z
UID:10001472-1799334900-1799338500@ranchovistosohoa.com
SUMMARY:Parks & Landscape Committee
DESCRIPTION:Parks & Landscape Committee\nParks & Landscape Committee\nFirst Thursday of the Month at 3:15 PM\nVia Zoom Videoconference – https://us02web.zoom.us/j/8445866556\nMeeting ID: 844 586 6556
URL:https://ranchovistosohoa.com/event/parks-landscape-committee-8/2027-01-07/
LOCATION:Audio Visual Conference via Zoom
CATEGORIES:Parks and Landscape Committee
ATTACH;FMTTYPE=image/jpeg:https://ranchovistosohoa.com/wp-content/uploads/2022/07/PV-Picture.jpg
END:VEVENT
BEGIN:VEVENT
DTSTART;TZID=America/Phoenix:20270112T153000
DTEND;TZID=America/Phoenix:20270112T170000
DTSTAMP:20260423T035716
CREATED:20240802T165420Z
LAST-MODIFIED:20240802T165421Z
UID:10001017-1799767800-1799773200@ranchovistosohoa.com
SUMMARY:Compliance Committee
DESCRIPTION:Compliance Committee\nSecond Tuesday of the Month at 3:30 PM\nVia Zoom Videoconference – https://us02web.zoom.us/j/8445866556\nMeeting ID: 844 586 6556
URL:https://ranchovistosohoa.com/event/compliance-committee-3-2-2/2027-01-12/
LOCATION:Audio Visual Conference via Zoom
CATEGORIES:Compliance Committee
ATTACH;FMTTYPE=image/jpeg:https://ranchovistosohoa.com/wp-content/uploads/2021/12/qtq80-UqgOPw-e1640209658158.jpeg
END:VEVENT
BEGIN:VEVENT
DTSTART;TZID=America/Phoenix:20270113T150000
DTEND;TZID=America/Phoenix:20270113T160000
DTSTAMP:20260423T035716
CREATED:20240911T234458Z
LAST-MODIFIED:20240911T234459Z
UID:10000776-1799852400-1799856000@ranchovistosohoa.com
SUMMARY:Architectural and Landscaping Review Committee
DESCRIPTION:ALRC Meeting Second Wednesday of the Month at 3:00 PM \nVia Zoom Videoconference \nhttps://us02web.zoom.us/j/8445866556 Meeting ID: 844 586 6556
URL:https://ranchovistosohoa.com/event/architectural-and-landscaping-review-committee-2-2/2027-01-13/
LOCATION:Audio Visual Conference via Zoom
CATEGORIES:ALRC
ATTACH;FMTTYPE=image/jpeg:https://ranchovistosohoa.com/wp-content/uploads/2021/12/qtq80-MmDIyT-e1640202501904.jpeg
END:VEVENT
BEGIN:VEVENT
DTSTART;VALUE=DATE:20270118
DTEND;VALUE=DATE:20270119
DTSTAMP:20260423T035716
CREATED:20230113T232720Z
LAST-MODIFIED:20231010T000312Z
UID:10000548-1800230400-1800316799@ranchovistosohoa.com
SUMMARY:VCA Office Closed - Martin Luther King Day
DESCRIPTION:
URL:https://ranchovistosohoa.com/event/vca-office-closed-martin-luther-king-day/2027-01-18/
LOCATION:Vistoso Association Office\, 1171 E Rancho Vistoso Blvd - Suite #111\, Oro Valley\, AZ\, 85755\, United States
CATEGORIES:Holiday - Office Closed
ATTACH;FMTTYPE=image/jpeg:https://ranchovistosohoa.com/wp-content/uploads/2021/12/christmas-christmas-tree-presents-1869902-e1640881249148.jpg
GEO:32.456496;-110.98357
X-APPLE-STRUCTURED-LOCATION;VALUE=URI;X-ADDRESS=Vistoso Association Office 1171 E Rancho Vistoso Blvd - Suite #111 Oro Valley AZ 85755 United States;X-APPLE-RADIUS=500;X-TITLE=1171 E Rancho Vistoso Blvd - Suite #111:geo:-110.98357,32.456496
END:VEVENT
BEGIN:VEVENT
DTSTART;TZID=America/Phoenix:20270119T150000
DTEND;TZID=America/Phoenix:20270119T160000
DTSTAMP:20260423T035716
CREATED:20250314T174457Z
LAST-MODIFIED:20260403T174532Z
UID:10001737-1800370800-1800374400@ranchovistosohoa.com
SUMMARY:Finance Committee
DESCRIPTION:Finance Committee Meeting \nThird Tuesday of the Month at 3:00 PM \nVia Zoom Videoconference –  https://us02web.zoom.us/j/8445866556 \nMeeting ID: 844 586 6556
URL:https://ranchovistosohoa.com/event/finance-committee-6-2-3-2/2027-01-19/
LOCATION:Audio Visual Conference via Zoom
CATEGORIES:Finance Committee
ATTACH;FMTTYPE=image/jpeg:https://ranchovistosohoa.com/wp-content/uploads/2020/10/qtq80-Pr2EvZ.jpeg
END:VEVENT
BEGIN:VEVENT
DTSTART;TZID=America/Phoenix:20270127T150000
DTEND;TZID=America/Phoenix:20270127T160000
DTSTAMP:20260423T035716
CREATED:20260403T173827Z
LAST-MODIFIED:20260416T205126Z
UID:10001378-1801062000-1801065600@ranchovistosohoa.com
SUMMARY:Board of Directors Executive Session – Closed Meeting
DESCRIPTION:VCA Board of Directors (Executive Session) – Closed Meeting\n\nMeeting Schedule – 3:00PM\n  \nThis meeting is to discuss items pertaining to ARS 33- 1804 A. paragraph 1\, 3\, 4 & 5. (Closed Meeting)  \n33-1804. Open meetings; exceptions – https://www.azleg.gov/ars/33/01804.htm
URL:https://ranchovistosohoa.com/event/board-of-directors-executive-session-closed-meeting-9-2-2-3-2-2/2027-01-27/
LOCATION:Audio Visual Conference via Zoom
CATEGORIES:Board Meeting - Executive Session
ATTACH;FMTTYPE=image/png:https://ranchovistosohoa.com/wp-content/uploads/2020/01/vistoso-board.png
END:VEVENT
BEGIN:VEVENT
DTSTART;TZID=America/Phoenix:20270128T173000
DTEND;TZID=America/Phoenix:20270128T183000
DTSTAMP:20260423T035716
CREATED:20260320T223846Z
LAST-MODIFIED:20260403T173935Z
UID:10001607-1801157400-1801161000@ranchovistosohoa.com
SUMMARY:Board of Directors - General Session
DESCRIPTION:Vistoso Community Association Board of Directors Monthly (General Session)\nMeeting Schedule – 5:30PM\nMeeting platform via Zoom Video & Audio Conferencing\n  \nHomeowners are encouraged to join Zoom Meeting at \nhttps://us02web.zoom.us/j/8445866556 \nMeeting ID: 844 586 6556 \nQuestions can also be submitted in advance at AskVCA@ranchovistosohoa.com
URL:https://ranchovistosohoa.com/event/board-of-directors-general-session-2/2027-01-28/
LOCATION:Audio Visual Conference via Zoom
CATEGORIES:Board Meeting
ATTACH;FMTTYPE=image/png:https://ranchovistosohoa.com/wp-content/uploads/2020/01/vistoso-board.png
END:VEVENT
BEGIN:VEVENT
DTSTART;TZID=America/Phoenix:20270203T160000
DTEND;TZID=America/Phoenix:20270203T170000
DTSTAMP:20260423T035716
CREATED:20260203T224914Z
LAST-MODIFIED:20260203T225229Z
UID:10000704-1801670400-1801674000@ranchovistosohoa.com
SUMMARY:Governing Documents Committee
DESCRIPTION:Governing Documents Committee\nFirst Wednesday of the Month at 4:00 PM\nVia Zoom Videoconference – https://us02web.zoom.us/j/8445866556\nMeeting ID: 844 586 6556 \nclick HERE to view the agenda\,
URL:https://ranchovistosohoa.com/event/governing-documents-committee-6-3-2-2/2027-02-03/
LOCATION:Audio Visual Conference via Zoom
CATEGORIES:Governing Docs Committee
ATTACH;FMTTYPE=image/jpeg:https://ranchovistosohoa.com/wp-content/uploads/2021/12/qtq80-1utPiA-e1640203008532.jpeg
END:VEVENT
BEGIN:VEVENT
DTSTART;TZID=America/Phoenix:20270204T151500
DTEND;TZID=America/Phoenix:20270204T161500
DTSTAMP:20260423T035716
CREATED:20251208T170558Z
LAST-MODIFIED:20251208T170558Z
UID:10001473-1801754100-1801757700@ranchovistosohoa.com
SUMMARY:Parks & Landscape Committee
DESCRIPTION:Parks & Landscape Committee\nParks & Landscape Committee\nFirst Thursday of the Month at 3:15 PM\nVia Zoom Videoconference – https://us02web.zoom.us/j/8445866556\nMeeting ID: 844 586 6556
URL:https://ranchovistosohoa.com/event/parks-landscape-committee-8/2027-02-04/
LOCATION:Audio Visual Conference via Zoom
CATEGORIES:Parks and Landscape Committee
ATTACH;FMTTYPE=image/jpeg:https://ranchovistosohoa.com/wp-content/uploads/2022/07/PV-Picture.jpg
END:VEVENT
BEGIN:VEVENT
DTSTART;TZID=America/Phoenix:20270209T153000
DTEND;TZID=America/Phoenix:20270209T170000
DTSTAMP:20260423T035716
CREATED:20240802T165420Z
LAST-MODIFIED:20240802T165421Z
UID:10001018-1802187000-1802192400@ranchovistosohoa.com
SUMMARY:Compliance Committee
DESCRIPTION:Compliance Committee\nSecond Tuesday of the Month at 3:30 PM\nVia Zoom Videoconference – https://us02web.zoom.us/j/8445866556\nMeeting ID: 844 586 6556
URL:https://ranchovistosohoa.com/event/compliance-committee-3-2-2/2027-02-09/
LOCATION:Audio Visual Conference via Zoom
CATEGORIES:Compliance Committee
ATTACH;FMTTYPE=image/jpeg:https://ranchovistosohoa.com/wp-content/uploads/2021/12/qtq80-UqgOPw-e1640209658158.jpeg
END:VEVENT
BEGIN:VEVENT
DTSTART;TZID=America/Phoenix:20270210T150000
DTEND;TZID=America/Phoenix:20270210T160000
DTSTAMP:20260423T035716
CREATED:20240911T234458Z
LAST-MODIFIED:20240911T234459Z
UID:10000777-1802271600-1802275200@ranchovistosohoa.com
SUMMARY:Architectural and Landscaping Review Committee
DESCRIPTION:ALRC Meeting Second Wednesday of the Month at 3:00 PM \nVia Zoom Videoconference \nhttps://us02web.zoom.us/j/8445866556 Meeting ID: 844 586 6556
URL:https://ranchovistosohoa.com/event/architectural-and-landscaping-review-committee-2-2/2027-02-10/
LOCATION:Audio Visual Conference via Zoom
CATEGORIES:ALRC
ATTACH;FMTTYPE=image/jpeg:https://ranchovistosohoa.com/wp-content/uploads/2021/12/qtq80-MmDIyT-e1640202501904.jpeg
END:VEVENT
END:VCALENDAR