BEGIN:VCALENDAR
VERSION:2.0
PRODID:-//Welcome to Rancho Vistoso - ECPv6.15.20//NONSGML v1.0//EN
CALSCALE:GREGORIAN
METHOD:PUBLISH
X-ORIGINAL-URL:https://ranchovistosohoa.com
X-WR-CALDESC:Events for Welcome to Rancho Vistoso
REFRESH-INTERVAL;VALUE=DURATION:PT1H
X-Robots-Tag:noindex
X-PUBLISHED-TTL:PT1H
BEGIN:VTIMEZONE
TZID:America/Phoenix
BEGIN:STANDARD
TZOFFSETFROM:-0700
TZOFFSETTO:-0700
TZNAME:MST
DTSTART:20260101T000000
END:STANDARD
END:VTIMEZONE
BEGIN:VEVENT
DTSTART;TZID=America/Phoenix:20270401T151500
DTEND;TZID=America/Phoenix:20270401T161500
DTSTAMP:20260423T114258
CREATED:20251208T170558Z
LAST-MODIFIED:20251208T170558Z
UID:10001475-1806592500-1806596100@ranchovistosohoa.com
SUMMARY:Parks & Landscape Committee
DESCRIPTION:Parks & Landscape Committee\nParks & Landscape Committee\nFirst Thursday of the Month at 3:15 PM\nVia Zoom Videoconference – https://us02web.zoom.us/j/8445866556\nMeeting ID: 844 586 6556
URL:https://ranchovistosohoa.com/event/parks-landscape-committee-8/2027-04-01/
LOCATION:Audio Visual Conference via Zoom
CATEGORIES:Parks and Landscape Committee
ATTACH;FMTTYPE=image/jpeg:https://ranchovistosohoa.com/wp-content/uploads/2022/07/PV-Picture.jpg
END:VEVENT
BEGIN:VEVENT
DTSTART;TZID=America/Phoenix:20270407T160000
DTEND;TZID=America/Phoenix:20270407T170000
DTSTAMP:20260423T114258
CREATED:20260203T224914Z
LAST-MODIFIED:20260203T225229Z
UID:10000706-1807113600-1807117200@ranchovistosohoa.com
SUMMARY:Governing Documents Committee
DESCRIPTION:Governing Documents Committee\nFirst Wednesday of the Month at 4:00 PM\nVia Zoom Videoconference – https://us02web.zoom.us/j/8445866556\nMeeting ID: 844 586 6556 \nclick HERE to view the agenda\,
URL:https://ranchovistosohoa.com/event/governing-documents-committee-6-3-2-2/2027-04-07/
LOCATION:Audio Visual Conference via Zoom
CATEGORIES:Governing Docs Committee
ATTACH;FMTTYPE=image/jpeg:https://ranchovistosohoa.com/wp-content/uploads/2021/12/qtq80-1utPiA-e1640203008532.jpeg
END:VEVENT
BEGIN:VEVENT
DTSTART;TZID=America/Phoenix:20270413T153000
DTEND;TZID=America/Phoenix:20270413T170000
DTSTAMP:20260423T114258
CREATED:20240802T165420Z
LAST-MODIFIED:20240802T165421Z
UID:10001020-1807630200-1807635600@ranchovistosohoa.com
SUMMARY:Compliance Committee
DESCRIPTION:Compliance Committee\nSecond Tuesday of the Month at 3:30 PM\nVia Zoom Videoconference – https://us02web.zoom.us/j/8445866556\nMeeting ID: 844 586 6556
URL:https://ranchovistosohoa.com/event/compliance-committee-3-2-2/2027-04-13/
LOCATION:Audio Visual Conference via Zoom
CATEGORIES:Compliance Committee
ATTACH;FMTTYPE=image/jpeg:https://ranchovistosohoa.com/wp-content/uploads/2021/12/qtq80-UqgOPw-e1640209658158.jpeg
END:VEVENT
BEGIN:VEVENT
DTSTART;TZID=America/Phoenix:20270414T150000
DTEND;TZID=America/Phoenix:20270414T160000
DTSTAMP:20260423T114258
CREATED:20240911T234458Z
LAST-MODIFIED:20240911T234459Z
UID:10000779-1807714800-1807718400@ranchovistosohoa.com
SUMMARY:Architectural and Landscaping Review Committee
DESCRIPTION:ALRC Meeting Second Wednesday of the Month at 3:00 PM \nVia Zoom Videoconference \nhttps://us02web.zoom.us/j/8445866556 Meeting ID: 844 586 6556
URL:https://ranchovistosohoa.com/event/architectural-and-landscaping-review-committee-2-2/2027-04-14/
LOCATION:Audio Visual Conference via Zoom
CATEGORIES:ALRC
ATTACH;FMTTYPE=image/jpeg:https://ranchovistosohoa.com/wp-content/uploads/2021/12/qtq80-MmDIyT-e1640202501904.jpeg
END:VEVENT
BEGIN:VEVENT
DTSTART;TZID=America/Phoenix:20270420T150000
DTEND;TZID=America/Phoenix:20270420T160000
DTSTAMP:20260423T114258
CREATED:20250314T174457Z
LAST-MODIFIED:20260403T174532Z
UID:10001740-1808233200-1808236800@ranchovistosohoa.com
SUMMARY:Finance Committee
DESCRIPTION:Finance Committee Meeting \nThird Tuesday of the Month at 3:00 PM \nVia Zoom Videoconference –  https://us02web.zoom.us/j/8445866556 \nMeeting ID: 844 586 6556
URL:https://ranchovistosohoa.com/event/finance-committee-6-2-3-2/2027-04-20/
LOCATION:Audio Visual Conference via Zoom
CATEGORIES:Finance Committee
ATTACH;FMTTYPE=image/jpeg:https://ranchovistosohoa.com/wp-content/uploads/2020/10/qtq80-Pr2EvZ.jpeg
END:VEVENT
BEGIN:VEVENT
DTSTART;TZID=America/Phoenix:20270428T150000
DTEND;TZID=America/Phoenix:20270428T160000
DTSTAMP:20260423T114258
CREATED:20260403T173827Z
LAST-MODIFIED:20260416T205126Z
UID:10001380-1808924400-1808928000@ranchovistosohoa.com
SUMMARY:Board of Directors Executive Session – Closed Meeting
DESCRIPTION:VCA Board of Directors (Executive Session) – Closed Meeting\n\nMeeting Schedule – 3:00PM\n  \nThis meeting is to discuss items pertaining to ARS 33- 1804 A. paragraph 1\, 3\, 4 & 5. (Closed Meeting)  \n33-1804. Open meetings; exceptions – https://www.azleg.gov/ars/33/01804.htm
URL:https://ranchovistosohoa.com/event/board-of-directors-executive-session-closed-meeting-9-2-2-3-2-2/2027-04-28/
LOCATION:Audio Visual Conference via Zoom
CATEGORIES:Board Meeting - Executive Session
ATTACH;FMTTYPE=image/png:https://ranchovistosohoa.com/wp-content/uploads/2020/01/vistoso-board.png
END:VEVENT
BEGIN:VEVENT
DTSTART;TZID=America/Phoenix:20270429T173000
DTEND;TZID=America/Phoenix:20270429T183000
DTSTAMP:20260423T114258
CREATED:20260320T223846Z
LAST-MODIFIED:20260403T173935Z
UID:10001705-1809019800-1809023400@ranchovistosohoa.com
SUMMARY:Board of Directors - General Session
DESCRIPTION:Vistoso Community Association Board of Directors Monthly (General Session)\nMeeting Schedule – 5:30PM\nMeeting platform via Zoom Video & Audio Conferencing\n  \nHomeowners are encouraged to join Zoom Meeting at \nhttps://us02web.zoom.us/j/8445866556 \nMeeting ID: 844 586 6556 \nQuestions can also be submitted in advance at AskVCA@ranchovistosohoa.com
URL:https://ranchovistosohoa.com/event/board-of-directors-general-session-2/2027-04-29/
LOCATION:Audio Visual Conference via Zoom
CATEGORIES:Board Meeting
ATTACH;FMTTYPE=image/png:https://ranchovistosohoa.com/wp-content/uploads/2020/01/vistoso-board.png
END:VEVENT
END:VCALENDAR